BEGIN:VCALENDAR
VERSION:2.0
PRODID:-//Culver City American Legion - ECPv6.14.2//NONSGML v1.0//EN
CALSCALE:GREGORIAN
METHOD:PUBLISH
X-WR-CALNAME:Culver City American Legion
X-ORIGINAL-URL:https://culvercitycommunitypost46.com
X-WR-CALDESC:Events for Culver City American Legion
REFRESH-INTERVAL;VALUE=DURATION:PT1H
X-Robots-Tag:noindex
X-PUBLISHED-TTL:PT1H
BEGIN:VTIMEZONE
TZID:America/Los_Angeles
BEGIN:DAYLIGHT
TZOFFSETFROM:-0800
TZOFFSETTO:-0700
TZNAME:PDT
DTSTART:20250309T100000
END:DAYLIGHT
BEGIN:STANDARD
TZOFFSETFROM:-0700
TZOFFSETTO:-0800
TZNAME:PST
DTSTART:20251102T090000
END:STANDARD
END:VTIMEZONE
BEGIN:VEVENT
DTSTART;TZID=America/Los_Angeles:20250206T173000
DTEND;TZID=America/Los_Angeles:20250206T203000
DTSTAMP:20260424T040010
CREATED:20240719T162053Z
LAST-MODIFIED:20240924T033250Z
UID:278714-1738863000-1738873800@culvercitycommunitypost46.com
SUMMARY:General Membership Meetings
DESCRIPTION:Community Post 46 and Community Unit 46 general membership meetings.  1st Thursday of each month \n5:30 Social \n6:30 Auxiliary Meeting \n7:00 Legion Meeting
URL:https://culvercitycommunitypost46.com/event/general-membership-meetings-15/
CATEGORIES:General Membership Meeting
ATTACH;FMTTYPE=image/jpeg:https://culvercitycommunitypost46.com/wp-content/uploads/2023/07/General-Meeting.jpg
END:VEVENT
BEGIN:VEVENT
DTSTART;TZID=America/Los_Angeles:20250206T190000
DTEND;TZID=America/Los_Angeles:20250206T230000
DTSTAMP:20260424T040010
CREATED:20240719T165251Z
LAST-MODIFIED:20240719T165251Z
UID:278810-1738868400-1738882800@culvercitycommunitypost46.com
SUMMARY:Karaoke Night
DESCRIPTION:Join us for Karaoke every Thursday night
URL:https://culvercitycommunitypost46.com/event/karaoke-night-89/
LOCATION:American Legion Post 46\, 5309 Sepulveda Blvd\, Culver City\, CA\, 90230\, United States
CATEGORIES:Karaoke
ATTACH;FMTTYPE=image/jpeg:https://culvercitycommunitypost46.com/wp-content/uploads/2023/07/Karaoke-Night.jpg
END:VEVENT
BEGIN:VEVENT
DTSTART;TZID=America/Los_Angeles:20250208T130000
DTEND;TZID=America/Los_Angeles:20250208T150000
DTSTAMP:20260424T040010
CREATED:20240804T032325Z
LAST-MODIFIED:20240804T032325Z
UID:278965-1739019600-1739026800@culvercitycommunitypost46.com
SUMMARY:D24 Department President Visit
DESCRIPTION:Join us for the Department of California’s American Legion Auxiliary President visit to the 24th District.
URL:https://culvercitycommunitypost46.com/event/d24-department-president-visit/
LOCATION:American Legion Post 46\, 5309 Sepulveda Blvd\, Culver City\, CA\, 90230\, United States
CATEGORIES:Rental
END:VEVENT
BEGIN:VEVENT
DTSTART;TZID=America/Los_Angeles:20250209T090000
DTEND;TZID=America/Los_Angeles:20250209T120000
DTSTAMP:20260424T040010
CREATED:20240719T195812Z
LAST-MODIFIED:20240719T195812Z
UID:278900-1739091600-1739102400@culvercitycommunitypost46.com
SUMMARY:Sunday Breakfast
DESCRIPTION:Join us for breakfast 2nd and 4th Sundays
URL:https://culvercitycommunitypost46.com/event/sunday-breakfast-42/
LOCATION:American Legion Post 46\, 5309 Sepulveda Blvd\, Culver City\, CA\, 90230\, United States
CATEGORIES:Breakfast
ATTACH;FMTTYPE=image/png:https://culvercitycommunitypost46.com/wp-content/uploads/2022/08/Sunday-Breakfast-2nd-4th.png
END:VEVENT
BEGIN:VEVENT
DTSTART;TZID=America/Los_Angeles:20250212T170000
DTEND;TZID=America/Los_Angeles:20250212T200000
DTSTAMP:20260424T040010
CREATED:20240719T194125Z
LAST-MODIFIED:20240719T194125Z
UID:278866-1739379600-1739390400@culvercitycommunitypost46.com
SUMMARY:Bird Club Rental
DESCRIPTION:
URL:https://culvercitycommunitypost46.com/event/bird-club-rental-8/
LOCATION:American Legion Post 46\, 5309 Sepulveda Blvd\, Culver City\, CA\, 90230\, United States
CATEGORIES:Rental
ATTACH;FMTTYPE=image/webp:https://culvercitycommunitypost46.com/wp-content/uploads/2023/07/private-event.webp
END:VEVENT
BEGIN:VEVENT
DTSTART;VALUE=DATE:20250222
DTEND;VALUE=DATE:20250223
DTSTAMP:20260424T040010
CREATED:20250223T172305Z
LAST-MODIFIED:20250223T172305Z
UID:279066-1740182400-1740182400@culvercitycommunitypost46.com
SUMMARY:Rental
DESCRIPTION:
URL:https://culvercitycommunitypost46.com/event/rental/
LOCATION:American Legion Post 46\, 5309 Sepulveda Blvd\, Culver City\, CA\, 90230\, United States
CATEGORIES:Rental
ATTACH;FMTTYPE=image/webp:https://culvercitycommunitypost46.com/wp-content/uploads/2023/07/private-event.webp
END:VEVENT
BEGIN:VEVENT
DTSTART;TZID=America/Los_Angeles:20250213T190000
DTEND;TZID=America/Los_Angeles:20250213T230000
DTSTAMP:20260424T040010
CREATED:20240719T165232Z
LAST-MODIFIED:20240719T165232Z
UID:278808-1739473200-1739487600@culvercitycommunitypost46.com
SUMMARY:Karaoke Night
DESCRIPTION:Join us for Karaoke every Thursday night
URL:https://culvercitycommunitypost46.com/event/karaoke-night-88/
LOCATION:American Legion Post 46\, 5309 Sepulveda Blvd\, Culver City\, CA\, 90230\, United States
CATEGORIES:Karaoke
ATTACH;FMTTYPE=image/jpeg:https://culvercitycommunitypost46.com/wp-content/uploads/2023/07/Karaoke-Night.jpg
END:VEVENT
BEGIN:VEVENT
DTSTART;TZID=America/Los_Angeles:20250219T173000
DTEND;TZID=America/Los_Angeles:20250219T203000
DTSTAMP:20260424T040010
CREATED:20250223T172611Z
LAST-MODIFIED:20250223T172611Z
UID:279070-1739986200-1739997000@culvercitycommunitypost46.com
SUMMARY:General Membership Meetings - RRP 283
DESCRIPTION:Community Post 46 and Community Unit 46 general membership meetings.  1st Thursday of each month \n5:30 Social \n6:30 Auxiliary Meeting \n7:00 Legion Meeting
URL:https://culvercitycommunitypost46.com/event/general-membership-meetings-rrp-283/
CATEGORIES:General Membership Meeting
ATTACH;FMTTYPE=image/jpeg:https://culvercitycommunitypost46.com/wp-content/uploads/2023/07/General-Meeting.jpg
END:VEVENT
BEGIN:VEVENT
DTSTART;TZID=America/Los_Angeles:20250220T173000
DTEND;TZID=America/Los_Angeles:20250220T200000
DTSTAMP:20260424T040010
CREATED:20240719T163124Z
LAST-MODIFIED:20240719T163319Z
UID:278736-1740072600-1740081600@culvercitycommunitypost46.com
SUMMARY:Executive Board Meeting
DESCRIPTION:TAL Community Post 46 Executive Board meetings
URL:https://culvercitycommunitypost46.com/event/executive-board-meeting-15/
LOCATION:American Legion Post 46\, 5309 Sepulveda Blvd\, Culver City\, CA\, 90230\, United States
CATEGORIES:Ex Board Meeting
ATTACH;FMTTYPE=image/jpeg:https://culvercitycommunitypost46.com/wp-content/uploads/2022/06/Front-of-Building.jpg
END:VEVENT
BEGIN:VEVENT
DTSTART;TZID=America/Los_Angeles:20250220T190000
DTEND;TZID=America/Los_Angeles:20250220T230000
DTSTAMP:20260424T040010
CREATED:20240719T165211Z
LAST-MODIFIED:20240719T165211Z
UID:278806-1740078000-1740092400@culvercitycommunitypost46.com
SUMMARY:Karaoke Night
DESCRIPTION:Join us for Karaoke every Thursday night
URL:https://culvercitycommunitypost46.com/event/karaoke-night-87/
LOCATION:American Legion Post 46\, 5309 Sepulveda Blvd\, Culver City\, CA\, 90230\, United States
CATEGORIES:Karaoke
ATTACH;FMTTYPE=image/jpeg:https://culvercitycommunitypost46.com/wp-content/uploads/2023/07/Karaoke-Night.jpg
END:VEVENT
BEGIN:VEVENT
DTSTART;VALUE=DATE:20250223
DTEND;VALUE=DATE:20250224
DTSTAMP:20260424T040010
CREATED:20250223T172410Z
LAST-MODIFIED:20250223T172410Z
UID:279068-1740268800-1740355199@culvercitycommunitypost46.com
SUMMARY:Rental
DESCRIPTION:
URL:https://culvercitycommunitypost46.com/event/rental-2/
LOCATION:American Legion Post 46\, 5309 Sepulveda Blvd\, Culver City\, CA\, 90230\, United States
CATEGORIES:Rental
ATTACH;FMTTYPE=image/webp:https://culvercitycommunitypost46.com/wp-content/uploads/2023/07/private-event.webp
END:VEVENT
BEGIN:VEVENT
DTSTART;TZID=America/Los_Angeles:20250223T090000
DTEND;TZID=America/Los_Angeles:20250223T120000
DTSTAMP:20260424T040010
CREATED:20240719T195846Z
LAST-MODIFIED:20240719T195846Z
UID:278902-1740301200-1740312000@culvercitycommunitypost46.com
SUMMARY:Sunday Breakfast
DESCRIPTION:Join us for breakfast 2nd and 4th Sundays
URL:https://culvercitycommunitypost46.com/event/sunday-breakfast-43/
LOCATION:American Legion Post 46\, 5309 Sepulveda Blvd\, Culver City\, CA\, 90230\, United States
CATEGORIES:Breakfast
ATTACH;FMTTYPE=image/png:https://culvercitycommunitypost46.com/wp-content/uploads/2022/08/Sunday-Breakfast-2nd-4th.png
END:VEVENT
BEGIN:VEVENT
DTSTART;TZID=America/Los_Angeles:20250227T190000
DTEND;TZID=America/Los_Angeles:20250227T230000
DTSTAMP:20260424T040010
CREATED:20240719T165143Z
LAST-MODIFIED:20240719T165143Z
UID:278804-1740682800-1740697200@culvercitycommunitypost46.com
SUMMARY:Karaoke Night
DESCRIPTION:Join us for Karaoke every Thursday night
URL:https://culvercitycommunitypost46.com/event/karaoke-night-86/
LOCATION:American Legion Post 46\, 5309 Sepulveda Blvd\, Culver City\, CA\, 90230\, United States
CATEGORIES:Karaoke
ATTACH;FMTTYPE=image/jpeg:https://culvercitycommunitypost46.com/wp-content/uploads/2023/07/Karaoke-Night.jpg
END:VEVENT
END:VCALENDAR