BEGIN:VCALENDAR
VERSION:2.0
PRODID:-//Culver City American Legion - ECPv6.14.2//NONSGML v1.0//EN
CALSCALE:GREGORIAN
METHOD:PUBLISH
X-ORIGINAL-URL:https://culvercitycommunitypost46.com
X-WR-CALDESC:Events for Culver City American Legion
REFRESH-INTERVAL;VALUE=DURATION:PT1H
X-Robots-Tag:noindex
X-PUBLISHED-TTL:PT1H
BEGIN:VTIMEZONE
TZID:America/Los_Angeles
BEGIN:DAYLIGHT
TZOFFSETFROM:-0800
TZOFFSETTO:-0700
TZNAME:PDT
DTSTART:20240310T100000
END:DAYLIGHT
BEGIN:STANDARD
TZOFFSETFROM:-0700
TZOFFSETTO:-0800
TZNAME:PST
DTSTART:20241103T090000
END:STANDARD
END:VTIMEZONE
BEGIN:VEVENT
DTSTART;TZID=America/Los_Angeles:20240228T180000
DTEND;TZID=America/Los_Angeles:20240228T203000
DTSTAMP:20260422T235800
CREATED:20230725T224131Z
LAST-MODIFIED:20230725T224131Z
UID:278339-1709143200-1709152200@culvercitycommunitypost46.com
SUMMARY:40 & 8 Meeting
DESCRIPTION:Voiture 1450 (Red Coats) Monthly Meetings
URL:https://culvercitycommunitypost46.com/event/40-8-meeting-8/
LOCATION:American Legion Post 46\, 5309 Sepulveda Blvd\, Culver City\, CA\, 90230\, United States
CATEGORIES:Rental
ATTACH;FMTTYPE=image/jpeg:https://culvercitycommunitypost46.com/wp-content/uploads/2023/07/Forty_and_Eight_emblem.jpg
END:VEVENT
BEGIN:VEVENT
DTSTART;TZID=America/Los_Angeles:20240229T190000
DTEND;TZID=America/Los_Angeles:20240229T230000
DTSTAMP:20260422T235800
CREATED:20230725T223146Z
LAST-MODIFIED:20231115T182108Z
UID:278325-1709233200-1709247600@culvercitycommunitypost46.com
SUMMARY:Karaoke Night
DESCRIPTION:Join us for Karaoke every Thursday night
URL:https://culvercitycommunitypost46.com/event/karaoke-night-33/
LOCATION:American Legion Post 46\, 5309 Sepulveda Blvd\, Culver City\, CA\, 90230\, United States
CATEGORIES:Karaoke
ATTACH;FMTTYPE=image/jpeg:https://culvercitycommunitypost46.com/wp-content/uploads/2023/07/Karaoke-Night.jpg
END:VEVENT
BEGIN:VEVENT
DTSTART;TZID=America/Los_Angeles:20240302T123000
DTEND;TZID=America/Los_Angeles:20240302T233000
DTSTAMP:20260422T235800
CREATED:20240223T225929Z
LAST-MODIFIED:20240223T230141Z
UID:278592-1709382600-1709422200@culvercitycommunitypost46.com
SUMMARY:Monte Carlos Night Rental
DESCRIPTION:Venice High School Baseball Fundraiser – RSVP venicehighbaseball@gmail.com \n6:00 pm to 9:00 pm
URL:https://culvercitycommunitypost46.com/event/monte-carlos-night-rental/
LOCATION:American Legion Post 46\, 5309 Sepulveda Blvd\, Culver City\, CA\, 90230\, United States
CATEGORIES:Rental
ATTACH;FMTTYPE=image/png:https://culvercitycommunitypost46.com/wp-content/uploads/2024/02/VH-Baseball3-2-24.png
END:VEVENT
BEGIN:VEVENT
DTSTART;TZID=America/Los_Angeles:20240307T173000
DTEND;TZID=America/Los_Angeles:20240307T203000
DTSTAMP:20260422T235800
CREATED:20230725T223925Z
LAST-MODIFIED:20230725T223925Z
UID:278337-1709832600-1709843400@culvercitycommunitypost46.com
SUMMARY:General Membership Meetings
DESCRIPTION:Community Post 46 and Community Unit 46 general membership meetings.  1st Thursday of each month
URL:https://culvercitycommunitypost46.com/event/general-membership-meetings-8/
CATEGORIES:General Membership Meeting
ATTACH;FMTTYPE=image/jpeg:https://culvercitycommunitypost46.com/wp-content/uploads/2023/07/General-Meeting.jpg
END:VEVENT
BEGIN:VEVENT
DTSTART;TZID=America/Los_Angeles:20240307T190000
DTEND;TZID=America/Los_Angeles:20240307T230000
DTSTAMP:20260422T235800
CREATED:20230725T230621Z
LAST-MODIFIED:20231115T182127Z
UID:278377-1709838000-1709852400@culvercitycommunitypost46.com
SUMMARY:Karaoke Night
DESCRIPTION:Join us for Karaoke every Thursday night
URL:https://culvercitycommunitypost46.com/event/karaoke-night-34/
LOCATION:American Legion Post 46\, 5309 Sepulveda Blvd\, Culver City\, CA\, 90230\, United States
CATEGORIES:Karaoke
ATTACH;FMTTYPE=image/jpeg:https://culvercitycommunitypost46.com/wp-content/uploads/2023/07/Karaoke-Night.jpg
END:VEVENT
BEGIN:VEVENT
DTSTART;TZID=America/Los_Angeles:20240309T120000
DTEND;TZID=America/Los_Angeles:20240309T233000
DTSTAMP:20260422T235800
CREATED:20240223T005257Z
LAST-MODIFIED:20240223T005257Z
UID:278571-1709985600-1710027000@culvercitycommunitypost46.com
SUMMARY:Birthday Rental
DESCRIPTION:
URL:https://culvercitycommunitypost46.com/event/birthday-rental-3/
LOCATION:American Legion Post 46\, 5309 Sepulveda Blvd\, Culver City\, CA\, 90230\, United States
CATEGORIES:Rental
ATTACH;FMTTYPE=image/webp:https://culvercitycommunitypost46.com/wp-content/uploads/2023/07/private-event.webp
END:VEVENT
BEGIN:VEVENT
DTSTART;TZID=America/Los_Angeles:20240310T090000
DTEND;TZID=America/Los_Angeles:20240310T120000
DTSTAMP:20260422T235800
CREATED:20230725T225912Z
LAST-MODIFIED:20230725T225912Z
UID:278361-1710061200-1710072000@culvercitycommunitypost46.com
SUMMARY:Sunday Breakfast
DESCRIPTION:Join us for breakfast 2nd and 4th Sundays
URL:https://culvercitycommunitypost46.com/event/sunday-breakfast-16/
LOCATION:American Legion Post 46\, 5309 Sepulveda Blvd\, Culver City\, CA\, 90230\, United States
CATEGORIES:Breakfast
ATTACH;FMTTYPE=image/png:https://culvercitycommunitypost46.com/wp-content/uploads/2022/08/Sunday-Breakfast-2nd-4th.png
END:VEVENT
BEGIN:VEVENT
DTSTART;TZID=America/Los_Angeles:20240313T170000
DTEND;TZID=America/Los_Angeles:20240313T220000
DTSTAMP:20260422T235800
CREATED:20230725T235620Z
LAST-MODIFIED:20230725T235620Z
UID:278425-1710349200-1710367200@culvercitycommunitypost46.com
SUMMARY:Bird Club
DESCRIPTION:
URL:https://culvercitycommunitypost46.com/event/bird-club-9/
LOCATION:American Legion Post 46\, 5309 Sepulveda Blvd\, Culver City\, CA\, 90230\, United States
CATEGORIES:Rental
ATTACH;FMTTYPE=image/webp:https://culvercitycommunitypost46.com/wp-content/uploads/2023/07/private-event.webp
END:VEVENT
BEGIN:VEVENT
DTSTART;TZID=America/Los_Angeles:20240314T190000
DTEND;TZID=America/Los_Angeles:20240314T230000
DTSTAMP:20260422T235800
CREATED:20230725T230646Z
LAST-MODIFIED:20231115T182151Z
UID:278379-1710442800-1710457200@culvercitycommunitypost46.com
SUMMARY:Karaoke Night
DESCRIPTION:Join us for Karaoke every Thursday night
URL:https://culvercitycommunitypost46.com/event/karaoke-night-35/
LOCATION:American Legion Post 46\, 5309 Sepulveda Blvd\, Culver City\, CA\, 90230\, United States
CATEGORIES:Karaoke
ATTACH;FMTTYPE=image/jpeg:https://culvercitycommunitypost46.com/wp-content/uploads/2023/07/Karaoke-Night.jpg
END:VEVENT
BEGIN:VEVENT
DTSTART;TZID=America/Los_Angeles:20240315T130000
DTEND;TZID=America/Los_Angeles:20240315T150000
DTSTAMP:20260422T235800
CREATED:20230726T204854Z
LAST-MODIFIED:20230726T204854Z
UID:278459-1710507600-1710514800@culvercitycommunitypost46.com
SUMMARY:West LA VA Bingo
DESCRIPTION:Volunteers welcome to host Bingo at West LA VA.  Contact Post for volunteer opportunities.
URL:https://culvercitycommunitypost46.com/event/west-la-va-bingo-8/
LOCATION:West LA VA\, 42-38 Bonsall Ave\, Los Angeles\, CA\, 90049
CATEGORIES:Post Event
ATTACH;FMTTYPE=image/jpeg:https://culvercitycommunitypost46.com/wp-content/uploads/2023/07/bingo.jpg
END:VEVENT
BEGIN:VEVENT
DTSTART;TZID=America/Los_Angeles:20240317T160000
DTEND;TZID=America/Los_Angeles:20240317T210000
DTSTAMP:20260422T235800
CREATED:20230726T001228Z
LAST-MODIFIED:20240215T162637Z
UID:278434-1710691200-1710709200@culvercitycommunitypost46.com
SUMMARY:St. Patricks Day Dinner
DESCRIPTION:St. Patricks Day Dinner hosted by the Sons Squadron 46
URL:https://culvercitycommunitypost46.com/event/st-patricks-day-dinner/
LOCATION:American Legion Post 46\, 5309 Sepulveda Blvd\, Culver City\, CA\, 90230\, United States
CATEGORIES:Post Event
ATTACH;FMTTYPE=application/pdf:https://culvercitycommunitypost46.com/wp-content/uploads/2023/07/St-Patricks-Day-Party-Flyer-3-17-24.pdf
END:VEVENT
BEGIN:VEVENT
DTSTART;TZID=America/Los_Angeles:20240321T173000
DTEND;TZID=America/Los_Angeles:20240321T200000
DTSTAMP:20260422T235800
CREATED:20230725T225132Z
LAST-MODIFIED:20230725T225132Z
UID:278347-1711042200-1711051200@culvercitycommunitypost46.com
SUMMARY:Executive Board Meeting
DESCRIPTION:TAL Community Post 46 Executive Board meetings
URL:https://culvercitycommunitypost46.com/event/executive-board-meeting-8/
LOCATION:American Legion Post 46\, 5309 Sepulveda Blvd\, Culver City\, CA\, 90230\, United States
CATEGORIES:Ex Board Meeting
ATTACH;FMTTYPE=image/jpeg:https://culvercitycommunitypost46.com/wp-content/uploads/2022/06/Front-of-Building.jpg
END:VEVENT
BEGIN:VEVENT
DTSTART;TZID=America/Los_Angeles:20240321T190000
DTEND;TZID=America/Los_Angeles:20240321T230000
DTSTAMP:20260422T235800
CREATED:20230725T230707Z
LAST-MODIFIED:20231115T182214Z
UID:278381-1711047600-1711062000@culvercitycommunitypost46.com
SUMMARY:Karaoke Night
DESCRIPTION:Join us for Karaoke every Thursday night
URL:https://culvercitycommunitypost46.com/event/karaoke-night-36/
LOCATION:American Legion Post 46\, 5309 Sepulveda Blvd\, Culver City\, CA\, 90230\, United States
CATEGORIES:Karaoke
ATTACH;FMTTYPE=image/jpeg:https://culvercitycommunitypost46.com/wp-content/uploads/2023/07/Karaoke-Night.jpg
END:VEVENT
BEGIN:VEVENT
DTSTART;TZID=America/Los_Angeles:20240323T120000
DTEND;TZID=America/Los_Angeles:20240323T160000
DTSTAMP:20260422T235800
CREATED:20230823T100020Z
LAST-MODIFIED:20231115T184450Z
UID:278237-1711195200-1711209600@culvercitycommunitypost46.com
SUMMARY:Quartermania - ALA Fundraiser
DESCRIPTION:ALA Community Unit 46 Fundraiser $25 early bird or $35 at the door.  Includes light lunch and bidding paddle.
URL:https://culvercitycommunitypost46.com/event/quartermania-ala-fundraiser/
LOCATION:American Legion Post 46\, 5309 Sepulveda Blvd\, Culver City\, CA\, 90230\, United States
CATEGORIES:Fundraiser
ATTACH;FMTTYPE=image/png:https://culvercitycommunitypost46.com/wp-content/uploads/2023/07/quartermania.png
END:VEVENT
BEGIN:VEVENT
DTSTART;TZID=America/Los_Angeles:20240324T090000
DTEND;TZID=America/Los_Angeles:20240324T120000
DTSTAMP:20260422T235800
CREATED:20230725T225937Z
LAST-MODIFIED:20230725T225937Z
UID:278363-1711270800-1711281600@culvercitycommunitypost46.com
SUMMARY:Sunday Breakfast
DESCRIPTION:Join us for breakfast 2nd and 4th Sundays
URL:https://culvercitycommunitypost46.com/event/sunday-breakfast-17/
LOCATION:American Legion Post 46\, 5309 Sepulveda Blvd\, Culver City\, CA\, 90230\, United States
CATEGORIES:Breakfast
ATTACH;FMTTYPE=image/png:https://culvercitycommunitypost46.com/wp-content/uploads/2022/08/Sunday-Breakfast-2nd-4th.png
END:VEVENT
BEGIN:VEVENT
DTSTART;TZID=America/Los_Angeles:20240325T170000
DTEND;TZID=America/Los_Angeles:20240325T210000
DTSTAMP:20260422T235800
CREATED:20240320T203834Z
LAST-MODIFIED:20240320T203834Z
UID:278611-1711386000-1711400400@culvercitycommunitypost46.com
SUMMARY:District 24 Meeting
DESCRIPTION:District 24 – Annual-Veteran Women’s  History event \n5:00 pm Social Hour\, 6:00 pm Dinner\, 7:00 pm Meeting
URL:https://culvercitycommunitypost46.com/event/district-24-meeting-7/
LOCATION:American Legion Post 46\, 5309 Sepulveda Blvd\, Culver City\, CA\, 90230\, United States
CATEGORIES:Ex Board Meeting
ATTACH;FMTTYPE=image/jpeg:https://culvercitycommunitypost46.com/wp-content/uploads/2024/03/D24-March-25-Meeting-Veteran-Womens-Night.jpg
END:VEVENT
BEGIN:VEVENT
DTSTART;TZID=America/Los_Angeles:20240327T180000
DTEND;TZID=America/Los_Angeles:20240327T203000
DTSTAMP:20260422T235800
CREATED:20230725T232514Z
LAST-MODIFIED:20230725T232514Z
UID:278423-1711562400-1711571400@culvercitycommunitypost46.com
SUMMARY:40 & 8 Meeting
DESCRIPTION:Voiture 1450 (Red Coats) Monthly Meetings
URL:https://culvercitycommunitypost46.com/event/40-8-meeting-10/
LOCATION:American Legion Post 46\, 5309 Sepulveda Blvd\, Culver City\, CA\, 90230\, United States
CATEGORIES:Rental
ATTACH;FMTTYPE=image/jpeg:https://culvercitycommunitypost46.com/wp-content/uploads/2023/07/Forty_and_Eight_emblem.jpg
END:VEVENT
BEGIN:VEVENT
DTSTART;TZID=America/Los_Angeles:20240328T190000
DTEND;TZID=America/Los_Angeles:20240328T230000
DTSTAMP:20260422T235800
CREATED:20230725T230757Z
LAST-MODIFIED:20231115T182257Z
UID:278385-1711652400-1711666800@culvercitycommunitypost46.com
SUMMARY:Karaoke Night
DESCRIPTION:Join us for Karaoke every Thursday night
URL:https://culvercitycommunitypost46.com/event/karaoke-night-38/
LOCATION:American Legion Post 46\, 5309 Sepulveda Blvd\, Culver City\, CA\, 90230\, United States
CATEGORIES:Karaoke
ATTACH;FMTTYPE=image/jpeg:https://culvercitycommunitypost46.com/wp-content/uploads/2023/07/Karaoke-Night.jpg
END:VEVENT
BEGIN:VEVENT
DTSTART;TZID=America/Los_Angeles:20240404T173000
DTEND;TZID=America/Los_Angeles:20240404T203000
DTSTAMP:20260422T235800
CREATED:20230725T224805Z
LAST-MODIFIED:20230725T224805Z
UID:278341-1712251800-1712262600@culvercitycommunitypost46.com
SUMMARY:General Membership Meetings
DESCRIPTION:Community Post 46 and Community Unit 46 general membership meetings.  1st Thursday of each month
URL:https://culvercitycommunitypost46.com/event/general-membership-meetings-9/
CATEGORIES:General Membership Meeting
ATTACH;FMTTYPE=image/jpeg:https://culvercitycommunitypost46.com/wp-content/uploads/2023/07/General-Meeting.jpg
END:VEVENT
BEGIN:VEVENT
DTSTART;TZID=America/Los_Angeles:20240404T190000
DTEND;TZID=America/Los_Angeles:20240404T230000
DTSTAMP:20260422T235800
CREATED:20230725T230834Z
LAST-MODIFIED:20231115T182320Z
UID:278387-1712257200-1712271600@culvercitycommunitypost46.com
SUMMARY:Karaoke Night
DESCRIPTION:Join us for Karaoke every Thursday night
URL:https://culvercitycommunitypost46.com/event/karaoke-night-39/
LOCATION:American Legion Post 46\, 5309 Sepulveda Blvd\, Culver City\, CA\, 90230\, United States
CATEGORIES:Karaoke
ATTACH;FMTTYPE=image/jpeg:https://culvercitycommunitypost46.com/wp-content/uploads/2023/07/Karaoke-Night.jpg
END:VEVENT
BEGIN:VEVENT
DTSTART;TZID=America/Los_Angeles:20240406T193000
DTEND;TZID=America/Los_Angeles:20240406T220000
DTSTAMP:20260422T235800
CREATED:20240320T185028Z
LAST-MODIFIED:20240320T203241Z
UID:278599-1712431800-1712440800@culvercitycommunitypost46.com
SUMMARY:Raise the Roof- Fundraiser
DESCRIPTION:April 6\, 2024 at 7:30 pm – Raise the Roof Fundraiser \nTickets: raisetheroofpost46.eventbrite.com
URL:https://culvercitycommunitypost46.com/event/fundraiser/
LOCATION:American Legion Post 46\, 5309 Sepulveda Blvd\, Culver City\, CA\, 90230\, United States
CATEGORIES:Fundraiser
ATTACH;FMTTYPE=image/jpeg:https://culvercitycommunitypost46.com/wp-content/uploads/2024/03/roof-concert-2024.jpg
END:VEVENT
BEGIN:VEVENT
DTSTART;TZID=America/Los_Angeles:20240410T170000
DTEND;TZID=America/Los_Angeles:20240410T220000
DTSTAMP:20260422T235800
CREATED:20230725T235713Z
LAST-MODIFIED:20230725T235713Z
UID:278427-1712768400-1712786400@culvercitycommunitypost46.com
SUMMARY:Bird Club
DESCRIPTION:
URL:https://culvercitycommunitypost46.com/event/bird-club-10/
LOCATION:American Legion Post 46\, 5309 Sepulveda Blvd\, Culver City\, CA\, 90230\, United States
CATEGORIES:Rental
ATTACH;FMTTYPE=image/webp:https://culvercitycommunitypost46.com/wp-content/uploads/2023/07/private-event.webp
END:VEVENT
BEGIN:VEVENT
DTSTART;TZID=America/Los_Angeles:20240411T190000
DTEND;TZID=America/Los_Angeles:20240411T230000
DTSTAMP:20260422T235800
CREATED:20230725T230910Z
LAST-MODIFIED:20231115T182350Z
UID:278389-1712862000-1712876400@culvercitycommunitypost46.com
SUMMARY:Karaoke Night
DESCRIPTION:Join us for Karaoke every Thursday night
URL:https://culvercitycommunitypost46.com/event/karaoke-night-40/
LOCATION:American Legion Post 46\, 5309 Sepulveda Blvd\, Culver City\, CA\, 90230\, United States
CATEGORIES:Karaoke
ATTACH;FMTTYPE=image/jpeg:https://culvercitycommunitypost46.com/wp-content/uploads/2023/07/Karaoke-Night.jpg
END:VEVENT
BEGIN:VEVENT
DTSTART;TZID=America/Los_Angeles:20240414T090000
DTEND;TZID=America/Los_Angeles:20240414T120000
DTSTAMP:20260422T235800
CREATED:20230725T230034Z
LAST-MODIFIED:20230725T230034Z
UID:278365-1713085200-1713096000@culvercitycommunitypost46.com
SUMMARY:Sunday Breakfast
DESCRIPTION:Join us for breakfast 2nd and 4th Sundays
URL:https://culvercitycommunitypost46.com/event/sunday-breakfast-18/
LOCATION:American Legion Post 46\, 5309 Sepulveda Blvd\, Culver City\, CA\, 90230\, United States
CATEGORIES:Breakfast
ATTACH;FMTTYPE=image/png:https://culvercitycommunitypost46.com/wp-content/uploads/2022/08/Sunday-Breakfast-2nd-4th.png
END:VEVENT
BEGIN:VEVENT
DTSTART;TZID=America/Los_Angeles:20240418T173000
DTEND;TZID=America/Los_Angeles:20240418T200000
DTSTAMP:20260422T235800
CREATED:20230725T225211Z
LAST-MODIFIED:20230725T225211Z
UID:278349-1713461400-1713470400@culvercitycommunitypost46.com
SUMMARY:Executive Board Meeting
DESCRIPTION:TAL Community Post 46 Executive Board meetings
URL:https://culvercitycommunitypost46.com/event/executive-board-meeting-9/
LOCATION:American Legion Post 46\, 5309 Sepulveda Blvd\, Culver City\, CA\, 90230\, United States
CATEGORIES:Ex Board Meeting
ATTACH;FMTTYPE=image/jpeg:https://culvercitycommunitypost46.com/wp-content/uploads/2022/06/Front-of-Building.jpg
END:VEVENT
BEGIN:VEVENT
DTSTART;TZID=America/Los_Angeles:20240418T190000
DTEND;TZID=America/Los_Angeles:20240418T230000
DTSTAMP:20260422T235800
CREATED:20230725T231003Z
LAST-MODIFIED:20231115T182432Z
UID:278393-1713466800-1713481200@culvercitycommunitypost46.com
SUMMARY:Karaoke Night
DESCRIPTION:Join us for Karaoke every Thursday night
URL:https://culvercitycommunitypost46.com/event/karaoke-night-42/
LOCATION:American Legion Post 46\, 5309 Sepulveda Blvd\, Culver City\, CA\, 90230\, United States
CATEGORIES:Karaoke
ATTACH;FMTTYPE=image/jpeg:https://culvercitycommunitypost46.com/wp-content/uploads/2023/07/Karaoke-Night.jpg
END:VEVENT
BEGIN:VEVENT
DTSTART;TZID=America/Los_Angeles:20240419T130000
DTEND;TZID=America/Los_Angeles:20240419T150000
DTSTAMP:20260422T235800
CREATED:20230726T204942Z
LAST-MODIFIED:20230726T204942Z
UID:278461-1713531600-1713538800@culvercitycommunitypost46.com
SUMMARY:West LA VA Bingo
DESCRIPTION:Volunteers welcome to host Bingo at West LA VA.  Contact Post for volunteer opportunities.
URL:https://culvercitycommunitypost46.com/event/west-la-va-bingo-9/
LOCATION:West LA VA\, 42-38 Bonsall Ave\, Los Angeles\, CA\, 90049
CATEGORIES:Post Event
ATTACH;FMTTYPE=image/jpeg:https://culvercitycommunitypost46.com/wp-content/uploads/2023/07/bingo.jpg
END:VEVENT
BEGIN:VEVENT
DTSTART;TZID=America/Los_Angeles:20240420T120000
DTEND;TZID=America/Los_Angeles:20240420T233000
DTSTAMP:20260422T235800
CREATED:20240223T005634Z
LAST-MODIFIED:20240223T005634Z
UID:278575-1713614400-1713655800@culvercitycommunitypost46.com
SUMMARY:Quinceañera Rental
DESCRIPTION:
URL:https://culvercitycommunitypost46.com/event/quinceanera-rental-3/
LOCATION:American Legion Post 46\, 5309 Sepulveda Blvd\, Culver City\, CA\, 90230\, United States
CATEGORIES:Rental
ATTACH;FMTTYPE=image/webp:https://culvercitycommunitypost46.com/wp-content/uploads/2023/07/private-event.webp
END:VEVENT
BEGIN:VEVENT
DTSTART;TZID=America/Los_Angeles:20240422T173000
DTEND;TZID=America/Los_Angeles:20240422T200000
DTSTAMP:20260422T235800
CREATED:20230725T231945Z
LAST-MODIFIED:20230725T231945Z
UID:278419-1713807000-1713816000@culvercitycommunitypost46.com
SUMMARY:District 24 Meeting
DESCRIPTION:District 24 – Annual-Women Veteran Program
URL:https://culvercitycommunitypost46.com/event/district-24-meeting-6/
LOCATION:American Legion Post 46\, 5309 Sepulveda Blvd\, Culver City\, CA\, 90230\, United States
CATEGORIES:Ex Board Meeting
ATTACH;FMTTYPE=image/jpeg:https://culvercitycommunitypost46.com/wp-content/uploads/2022/06/Front-of-Building.jpg
END:VEVENT
BEGIN:VEVENT
DTSTART;TZID=America/Los_Angeles:20240424T180000
DTEND;TZID=America/Los_Angeles:20240424T203000
DTSTAMP:20260422T235800
CREATED:20230725T232213Z
LAST-MODIFIED:20230725T232213Z
UID:278421-1713981600-1713990600@culvercitycommunitypost46.com
SUMMARY:40 & 8 Meeting
DESCRIPTION:Voiture 1450 (Red Coats) Monthly Meetings
URL:https://culvercitycommunitypost46.com/event/40-8-meeting-9/
LOCATION:American Legion Post 46\, 5309 Sepulveda Blvd\, Culver City\, CA\, 90230\, United States
CATEGORIES:Rental
ATTACH;FMTTYPE=image/jpeg:https://culvercitycommunitypost46.com/wp-content/uploads/2023/07/Forty_and_Eight_emblem.jpg
END:VEVENT
END:VCALENDAR