BEGIN:VCALENDAR
VERSION:2.0
PRODID:-//Culver City American Legion - ECPv6.14.2//NONSGML v1.0//EN
CALSCALE:GREGORIAN
METHOD:PUBLISH
X-WR-CALNAME:Culver City American Legion
X-ORIGINAL-URL:https://culvercitycommunitypost46.com
X-WR-CALDESC:Events for Culver City American Legion
REFRESH-INTERVAL;VALUE=DURATION:PT1H
X-Robots-Tag:noindex
X-PUBLISHED-TTL:PT1H
BEGIN:VTIMEZONE
TZID:America/Los_Angeles
BEGIN:DAYLIGHT
TZOFFSETFROM:-0800
TZOFFSETTO:-0700
TZNAME:PDT
DTSTART:20230312T100000
END:DAYLIGHT
BEGIN:STANDARD
TZOFFSETFROM:-0700
TZOFFSETTO:-0800
TZNAME:PST
DTSTART:20231105T090000
END:STANDARD
END:VTIMEZONE
BEGIN:VEVENT
DTSTART;VALUE=DATE:20230924
DTEND;VALUE=DATE:20230925
DTSTAMP:20260422T203648
CREATED:20230912T001148Z
LAST-MODIFIED:20230912T001148Z
UID:278514-1695513600-1695599999@culvercitycommunitypost46.com
SUMMARY:Quinceanera Rental
DESCRIPTION:
URL:https://culvercitycommunitypost46.com/event/quinceanera-rental/
LOCATION:American Legion Post 46\, 5309 Sepulveda Blvd\, Culver City\, CA\, 90230\, United States
CATEGORIES:Rental
ATTACH;FMTTYPE=image/webp:https://culvercitycommunitypost46.com/wp-content/uploads/2023/07/private-event.webp
END:VEVENT
BEGIN:VEVENT
DTSTART;TZID=America/Los_Angeles:20230923T100000
DTEND;TZID=America/Los_Angeles:20230923T120000
DTSTAMP:20260422T203649
CREATED:20230823T223348Z
LAST-MODIFIED:20230823T223348Z
UID:278492-1695463200-1695470400@culvercitycommunitypost46.com
SUMMARY:Sons 5-Star Training
DESCRIPTION:Sons 5-Star Training open to all.  10:00 am to 12:00 pm.  Lunch will be offered at $10.
URL:https://culvercitycommunitypost46.com/event/sons-5-star-training/
LOCATION:American Legion Post 46\, 5309 Sepulveda Blvd\, Culver City\, CA\, 90230\, United States
CATEGORIES:Karaoke
ATTACH;FMTTYPE=image/png:https://culvercitycommunitypost46.com/wp-content/uploads/2023/08/Sons-Five-Star-Training-9-23-23.png
END:VEVENT
BEGIN:VEVENT
DTSTART;TZID=America/Los_Angeles:20230921T190000
DTEND;TZID=America/Los_Angeles:20230921T230000
DTSTAMP:20260422T203649
CREATED:20230721T191131Z
LAST-MODIFIED:20230801T202158Z
UID:278192-1695322800-1695337200@culvercitycommunitypost46.com
SUMMARY:Karaoke Night
DESCRIPTION:Join us for Karaoke every Thursday night
URL:https://culvercitycommunitypost46.com/event/karaoke-night-9/
LOCATION:American Legion Post 46\, 5309 Sepulveda Blvd\, Culver City\, CA\, 90230\, United States
CATEGORIES:Karaoke
ATTACH;FMTTYPE=image/jpeg:https://culvercitycommunitypost46.com/wp-content/uploads/2023/07/Karaoke-Night.jpg
END:VEVENT
BEGIN:VEVENT
DTSTART;TZID=America/Los_Angeles:20230921T173000
DTEND;TZID=America/Los_Angeles:20230921T200000
DTSTAMP:20260422T203649
CREATED:20230724T231227Z
LAST-MODIFIED:20230724T231227Z
UID:278256-1695317400-1695326400@culvercitycommunitypost46.com
SUMMARY:Executive Board Meeting
DESCRIPTION:TAL Community Post 46 Executive Board meetings
URL:https://culvercitycommunitypost46.com/event/executive-board-meeting-2/
LOCATION:American Legion Post 46\, 5309 Sepulveda Blvd\, Culver City\, CA\, 90230\, United States
CATEGORIES:Ex Board Meeting
ATTACH;FMTTYPE=image/jpeg:https://culvercitycommunitypost46.com/wp-content/uploads/2022/06/Front-of-Building.jpg
END:VEVENT
BEGIN:VEVENT
DTSTART;TZID=America/Los_Angeles:20230921T160000
DTEND;TZID=America/Los_Angeles:20230921T200000
DTSTAMP:20260422T203649
CREATED:20230911T235446Z
LAST-MODIFIED:20230911T235446Z
UID:278507-1695312000-1695326400@culvercitycommunitypost46.com
SUMMARY:SONS Steak Night
DESCRIPTION:Join us for Steak Night…its what’s for dinner.  Pre-Order $16 or same day $20 on September 21\, 2023\, 4:00 p.m. to 8:00 p.m.  All proceeds benefit Sons of the American Legion programs.  Dinner includes baked potato\, veggies\, salad and dessert.
URL:https://culvercitycommunitypost46.com/event/sons-steak-night/
LOCATION:American Legion Post 46\, 5309 Sepulveda Blvd\, Culver City\, CA\, 90230\, United States
CATEGORIES:Fundraiser
ATTACH;FMTTYPE=image/png:https://culvercitycommunitypost46.com/wp-content/uploads/2023/09/Beef-Steak-Flyer-9-21-23.png
END:VEVENT
BEGIN:VEVENT
DTSTART;TZID=America/Los_Angeles:20230919T180000
DTEND;TZID=America/Los_Angeles:20230919T200000
DTSTAMP:20260422T203649
CREATED:20230912T001029Z
LAST-MODIFIED:20230912T001029Z
UID:278512-1695146400-1695153600@culvercitycommunitypost46.com
SUMMARY:Post 290 Meeting
DESCRIPTION:Post 290 Meeting
URL:https://culvercitycommunitypost46.com/event/post-290-meeting/
LOCATION:American Legion Post 46\, 5309 Sepulveda Blvd\, Culver City\, CA\, 90230\, United States
CATEGORIES:Rental
ATTACH;FMTTYPE=image/webp:https://culvercitycommunitypost46.com/wp-content/uploads/2023/07/private-event.webp
END:VEVENT
BEGIN:VEVENT
DTSTART;VALUE=DATE:20230916
DTEND;VALUE=DATE:20230917
DTSTAMP:20260422T203649
CREATED:20230912T000801Z
LAST-MODIFIED:20230912T000801Z
UID:278510-1694822400-1694908799@culvercitycommunitypost46.com
SUMMARY:Wedding Rental
DESCRIPTION:
URL:https://culvercitycommunitypost46.com/event/wedding-rental/
LOCATION:American Legion Post 46\, 5309 Sepulveda Blvd\, Culver City\, CA\, 90230\, United States
CATEGORIES:Rental
ATTACH;FMTTYPE=image/webp:https://culvercitycommunitypost46.com/wp-content/uploads/2023/07/private-event.webp
END:VEVENT
BEGIN:VEVENT
DTSTART;TZID=America/Los_Angeles:20230915T130000
DTEND;TZID=America/Los_Angeles:20230915T150000
DTSTAMP:20260422T203649
CREATED:20230726T204127Z
LAST-MODIFIED:20230726T204127Z
UID:278449-1694782800-1694790000@culvercitycommunitypost46.com
SUMMARY:West LA VA Bingo
DESCRIPTION:Volunteers welcome to host Bingo at West LA VA.  Contact Post for volunteer opportunities.
URL:https://culvercitycommunitypost46.com/event/west-la-va-bingo-3/
LOCATION:West LA VA\, 42-38 Bonsall Ave\, Los Angeles\, CA\, 90049
CATEGORIES:Post Event
ATTACH;FMTTYPE=image/jpeg:https://culvercitycommunitypost46.com/wp-content/uploads/2023/07/bingo.jpg
END:VEVENT
BEGIN:VEVENT
DTSTART;TZID=America/Los_Angeles:20230914T190000
DTEND;TZID=America/Los_Angeles:20230914T230000
DTSTAMP:20260422T203649
CREATED:20230721T191058Z
LAST-MODIFIED:20230801T202110Z
UID:278190-1694718000-1694732400@culvercitycommunitypost46.com
SUMMARY:Karaoke Night
DESCRIPTION:Join us for Karaoke every Thursday night
URL:https://culvercitycommunitypost46.com/event/karaoke-night-8/
LOCATION:American Legion Post 46\, 5309 Sepulveda Blvd\, Culver City\, CA\, 90230\, United States
CATEGORIES:Karaoke
ATTACH;FMTTYPE=image/jpeg:https://culvercitycommunitypost46.com/wp-content/uploads/2023/07/Karaoke-Night.jpg
END:VEVENT
BEGIN:VEVENT
DTSTART;TZID=America/Los_Angeles:20230913T170000
DTEND;TZID=America/Los_Angeles:20230913T220000
DTSTAMP:20260422T203649
CREATED:20230721T194017Z
LAST-MODIFIED:20230721T194017Z
UID:278233-1694624400-1694642400@culvercitycommunitypost46.com
SUMMARY:Bird Club
DESCRIPTION:
URL:https://culvercitycommunitypost46.com/event/bird-club-2/
LOCATION:American Legion Post 46\, 5309 Sepulveda Blvd\, Culver City\, CA\, 90230\, United States
CATEGORIES:Rental
ATTACH;FMTTYPE=image/webp:https://culvercitycommunitypost46.com/wp-content/uploads/2023/07/private-event.webp
END:VEVENT
BEGIN:VEVENT
DTSTART;TZID=America/Los_Angeles:20230910T090000
DTEND;TZID=America/Los_Angeles:20230910T120000
DTSTAMP:20260422T203649
CREATED:20230721T161557Z
LAST-MODIFIED:20230721T161558Z
UID:278151-1694336400-1694347200@culvercitycommunitypost46.com
SUMMARY:Sunday Breakfast
DESCRIPTION:Join us for breakfast 2nd and 4th Sundays
URL:https://culvercitycommunitypost46.com/event/sunday-breakfast-4/
LOCATION:American Legion Post 46\, 5309 Sepulveda Blvd\, Culver City\, CA\, 90230\, United States
CATEGORIES:Breakfast
ATTACH;FMTTYPE=image/png:https://culvercitycommunitypost46.com/wp-content/uploads/2022/08/Sunday-Breakfast-2nd-4th.png
END:VEVENT
BEGIN:VEVENT
DTSTART;TZID=America/Los_Angeles:20230909T100000
DTEND;TZID=America/Los_Angeles:20230909T220000
DTSTAMP:20260422T203649
CREATED:20230721T194143Z
LAST-MODIFIED:20230721T194143Z
UID:278235-1694253600-1694296800@culvercitycommunitypost46.com
SUMMARY:Birthday Rental
DESCRIPTION:
URL:https://culvercitycommunitypost46.com/event/birthday-rental/
LOCATION:American Legion Post 46\, 5309 Sepulveda Blvd\, Culver City\, CA\, 90230\, United States
CATEGORIES:Rental
ATTACH;FMTTYPE=image/webp:https://culvercitycommunitypost46.com/wp-content/uploads/2023/07/private-event.webp
END:VEVENT
BEGIN:VEVENT
DTSTART;TZID=America/Los_Angeles:20230907T190000
DTEND;TZID=America/Los_Angeles:20230907T230000
DTSTAMP:20260422T203649
CREATED:20230721T191009Z
LAST-MODIFIED:20230801T202022Z
UID:278188-1694113200-1694127600@culvercitycommunitypost46.com
SUMMARY:Karaoke Night
DESCRIPTION:Join us for Karaoke every Thursday night
URL:https://culvercitycommunitypost46.com/event/karaoke-night-7/
LOCATION:American Legion Post 46\, 5309 Sepulveda Blvd\, Culver City\, CA\, 90230\, United States
CATEGORIES:Karaoke
ATTACH;FMTTYPE=image/jpeg:https://culvercitycommunitypost46.com/wp-content/uploads/2023/07/Karaoke-Night.jpg
END:VEVENT
BEGIN:VEVENT
DTSTART;TZID=America/Los_Angeles:20230907T173000
DTEND;TZID=America/Los_Angeles:20230907T203000
DTSTAMP:20260422T203649
CREATED:20230721T165733Z
LAST-MODIFIED:20230721T165733Z
UID:278169-1694107800-1694118600@culvercitycommunitypost46.com
SUMMARY:General Membership Meetings
DESCRIPTION:Community Post 46 and Community Unit 46 general membership meetings.  1st Thursday of each month
URL:https://culvercitycommunitypost46.com/event/general-membership-meetings-2/
CATEGORIES:General Membership Meeting
ATTACH;FMTTYPE=image/jpeg:https://culvercitycommunitypost46.com/wp-content/uploads/2023/07/General-Meeting.jpg
END:VEVENT
BEGIN:VEVENT
DTSTART;TZID=America/Los_Angeles:20230831T190000
DTEND;TZID=America/Los_Angeles:20230831T230000
DTSTAMP:20260422T203649
CREATED:20230721T170106Z
LAST-MODIFIED:20230801T201912Z
UID:278177-1693508400-1693522800@culvercitycommunitypost46.com
SUMMARY:Karaoke Night
DESCRIPTION:Join us for Karaoke every Thursday night
URL:https://culvercitycommunitypost46.com/event/karaoke-night-5/
LOCATION:American Legion Post 46\, 5309 Sepulveda Blvd\, Culver City\, CA\, 90230\, United States
CATEGORIES:Karaoke
ATTACH;FMTTYPE=image/jpeg:https://culvercitycommunitypost46.com/wp-content/uploads/2023/07/Karaoke-Night.jpg
END:VEVENT
BEGIN:VEVENT
DTSTART;TZID=America/Los_Angeles:20230827T090000
DTEND;TZID=America/Los_Angeles:20230827T120000
DTSTAMP:20260422T203649
CREATED:20230721T161330Z
LAST-MODIFIED:20230721T162349Z
UID:278149-1693126800-1693137600@culvercitycommunitypost46.com
SUMMARY:Sunday Breakfast
DESCRIPTION:Join us for breakfast 2nd and 4th Sundays
URL:https://culvercitycommunitypost46.com/event/sunday-breakfast-3/
LOCATION:American Legion Post 46\, 5309 Sepulveda Blvd\, Culver City\, CA\, 90230\, United States
CATEGORIES:Breakfast
ATTACH;FMTTYPE=image/png:https://culvercitycommunitypost46.com/wp-content/uploads/2022/08/Sunday-Breakfast-2nd-4th.png
END:VEVENT
BEGIN:VEVENT
DTSTART;TZID=America/Los_Angeles:20230824T190000
DTEND;TZID=America/Los_Angeles:20230824T230000
DTSTAMP:20260422T203649
CREATED:20230721T170035Z
LAST-MODIFIED:20230801T201800Z
UID:278175-1692903600-1692918000@culvercitycommunitypost46.com
SUMMARY:Karaoke Night
DESCRIPTION:Join us for Karaoke every Thursday night
URL:https://culvercitycommunitypost46.com/event/karaoke-night-4/
LOCATION:American Legion Post 46\, 5309 Sepulveda Blvd\, Culver City\, CA\, 90230\, United States
CATEGORIES:Karaoke
ATTACH;FMTTYPE=image/jpeg:https://culvercitycommunitypost46.com/wp-content/uploads/2023/07/Karaoke-Night.jpg
END:VEVENT
BEGIN:VEVENT
DTSTART;TZID=America/Los_Angeles:20230823T180000
DTEND;TZID=America/Los_Angeles:20230823T203000
DTSTAMP:20260422T203649
CREATED:20230725T194952Z
LAST-MODIFIED:20230725T194952Z
UID:278276-1692813600-1692822600@culvercitycommunitypost46.com
SUMMARY:40 & 8 Meeting
DESCRIPTION:Voiture 1450 (Red Coats) Monthly Meetings
URL:https://culvercitycommunitypost46.com/event/40-8-meeting-2/
LOCATION:American Legion Post 46\, 5309 Sepulveda Blvd\, Culver City\, CA\, 90230\, United States
CATEGORIES:Rental
ATTACH;FMTTYPE=image/jpeg:https://culvercitycommunitypost46.com/wp-content/uploads/2023/07/Forty_and_Eight_emblem.jpg
END:VEVENT
BEGIN:VEVENT
DTSTART;TZID=America/Los_Angeles:20230818T130000
DTEND;TZID=America/Los_Angeles:20230818T150000
DTSTAMP:20260422T203649
CREATED:20230726T204029Z
LAST-MODIFIED:20230726T204029Z
UID:278447-1692363600-1692370800@culvercitycommunitypost46.com
SUMMARY:West LA VA Bingo
DESCRIPTION:Volunteers welcome to host Bingo at West LA VA.  Contact Post for volunteer opportunities.
URL:https://culvercitycommunitypost46.com/event/west-la-va-bingo-2/
LOCATION:West LA VA\, 42-38 Bonsall Ave\, Los Angeles\, CA\, 90049
CATEGORIES:Post Event
ATTACH;FMTTYPE=image/jpeg:https://culvercitycommunitypost46.com/wp-content/uploads/2023/07/bingo.jpg
END:VEVENT
BEGIN:VEVENT
DTSTART;TZID=America/Los_Angeles:20230818T100000
DTEND;TZID=America/Los_Angeles:20230818T220000
DTSTAMP:20260422T203649
CREATED:20230721T193512Z
LAST-MODIFIED:20230721T193513Z
UID:278228-1692352800-1692396000@culvercitycommunitypost46.com
SUMMARY:Graduation Rental
DESCRIPTION:
URL:https://culvercitycommunitypost46.com/event/graduation-rental/
LOCATION:American Legion Post 46\, 5309 Sepulveda Blvd\, Culver City\, CA\, 90230\, United States
CATEGORIES:Rental
ATTACH;FMTTYPE=image/webp:https://culvercitycommunitypost46.com/wp-content/uploads/2023/07/private-event.webp
END:VEVENT
BEGIN:VEVENT
DTSTART;TZID=America/Los_Angeles:20230817T190000
DTEND;TZID=America/Los_Angeles:20230817T230000
DTSTAMP:20260422T203649
CREATED:20230721T165940Z
LAST-MODIFIED:20230801T201659Z
UID:278173-1692298800-1692313200@culvercitycommunitypost46.com
SUMMARY:Karaoke Night
DESCRIPTION:Join us for Karaoke every Thursday night
URL:https://culvercitycommunitypost46.com/event/karaoke-night-3/
LOCATION:American Legion Post 46\, 5309 Sepulveda Blvd\, Culver City\, CA\, 90230\, United States
CATEGORIES:Karaoke
ATTACH;FMTTYPE=image/jpeg:https://culvercitycommunitypost46.com/wp-content/uploads/2023/07/Karaoke-Night.jpg
END:VEVENT
BEGIN:VEVENT
DTSTART;TZID=America/Los_Angeles:20230817T173000
DTEND;TZID=America/Los_Angeles:20230817T200000
DTSTAMP:20260422T203649
CREATED:20230721T192926Z
LAST-MODIFIED:20230721T192927Z
UID:278226-1692293400-1692302400@culvercitycommunitypost46.com
SUMMARY:Executive Board Meeting
DESCRIPTION:TAL Community Post 46 Executive Board meetings
URL:https://culvercitycommunitypost46.com/event/executive-board-meeting/
LOCATION:American Legion Post 46\, 5309 Sepulveda Blvd\, Culver City\, CA\, 90230\, United States
CATEGORIES:Ex Board Meeting
ATTACH;FMTTYPE=image/jpeg:https://culvercitycommunitypost46.com/wp-content/uploads/2022/06/Front-of-Building.jpg
END:VEVENT
BEGIN:VEVENT
DTSTART;TZID=America/Los_Angeles:20230813T090000
DTEND;TZID=America/Los_Angeles:20230813T120000
DTSTAMP:20260422T203649
CREATED:20230721T160145Z
LAST-MODIFIED:20230721T161807Z
UID:278143-1691917200-1691928000@culvercitycommunitypost46.com
SUMMARY:Sunday Breakfast
DESCRIPTION:Join us for breakfast
URL:https://culvercitycommunitypost46.com/event/sunday-breakfast-2/
LOCATION:American Legion Post 46\, 5309 Sepulveda Blvd\, Culver City\, CA\, 90230\, United States
CATEGORIES:Breakfast
ATTACH;FMTTYPE=image/png:https://culvercitycommunitypost46.com/wp-content/uploads/2022/08/Sunday-Breakfast-2nd-4th.png
END:VEVENT
BEGIN:VEVENT
DTSTART;TZID=America/Los_Angeles:20230810T190000
DTEND;TZID=America/Los_Angeles:20230810T230000
DTSTAMP:20260422T203649
CREATED:20230721T170352Z
LAST-MODIFIED:20230801T201626Z
UID:278179-1691694000-1691708400@culvercitycommunitypost46.com
SUMMARY:Karaoke Night
DESCRIPTION:Join us for Karaoke every Thursday night
URL:https://culvercitycommunitypost46.com/event/karaoke-night-6/
LOCATION:American Legion Post 46\, 5309 Sepulveda Blvd\, Culver City\, CA\, 90230\, United States
CATEGORIES:Karaoke
ATTACH;FMTTYPE=image/jpeg:https://culvercitycommunitypost46.com/wp-content/uploads/2023/07/Karaoke-Night.jpg
END:VEVENT
BEGIN:VEVENT
DTSTART;TZID=America/Los_Angeles:20230809T170000
DTEND;TZID=America/Los_Angeles:20230809T220000
DTSTAMP:20260422T203649
CREATED:20230721T193619Z
LAST-MODIFIED:20230721T193632Z
UID:278231-1691600400-1691618400@culvercitycommunitypost46.com
SUMMARY:Bird Club
DESCRIPTION:
URL:https://culvercitycommunitypost46.com/event/bird-club/
LOCATION:American Legion Post 46\, 5309 Sepulveda Blvd\, Culver City\, CA\, 90230\, United States
CATEGORIES:Rental
ATTACH;FMTTYPE=image/webp:https://culvercitycommunitypost46.com/wp-content/uploads/2023/07/private-event.webp
END:VEVENT
BEGIN:VEVENT
DTSTART;TZID=America/Los_Angeles:20230803T190000
DTEND;TZID=America/Los_Angeles:20230803T230000
DTSTAMP:20260422T203649
CREATED:20230721T165856Z
LAST-MODIFIED:20230801T201438Z
UID:278171-1691089200-1691103600@culvercitycommunitypost46.com
SUMMARY:Karaoke Night
DESCRIPTION:Join us for Karaoke every Thursday night
URL:https://culvercitycommunitypost46.com/event/karaoke-night-2/
LOCATION:American Legion Post 46\, 5309 Sepulveda Blvd\, Culver City\, CA\, 90230\, United States
CATEGORIES:Karaoke
ATTACH;FMTTYPE=image/jpeg:https://culvercitycommunitypost46.com/wp-content/uploads/2023/07/Karaoke-Night.jpg
END:VEVENT
BEGIN:VEVENT
DTSTART;TZID=America/Los_Angeles:20230803T173000
DTEND;TZID=America/Los_Angeles:20230803T203000
DTSTAMP:20260422T203649
CREATED:20230721T165551Z
LAST-MODIFIED:20230721T165551Z
UID:278166-1691083800-1691094600@culvercitycommunitypost46.com
SUMMARY:General Membership Meetings
DESCRIPTION:Community Post 46 and Community Unit 46 general membership meetings.  1st Thursday of each month
URL:https://culvercitycommunitypost46.com/event/general-membership-meetings/
CATEGORIES:General Membership Meeting
ATTACH;FMTTYPE=image/jpeg:https://culvercitycommunitypost46.com/wp-content/uploads/2023/07/General-Meeting.jpg
END:VEVENT
BEGIN:VEVENT
DTSTART;TZID=America/Los_Angeles:20230728T173000
DTEND;TZID=America/Los_Angeles:20230728T210000
DTSTAMP:20260422T203649
CREATED:20230725T195800Z
LAST-MODIFIED:20230725T195800Z
UID:278286-1690565400-1690578000@culvercitycommunitypost46.com
SUMMARY:LACC Meeting
DESCRIPTION:American Legion Los Angeles County Council Meetings
URL:https://culvercitycommunitypost46.com/event/lacc-meeting/
LOCATION:American Legion Post 46\, 5309 Sepulveda Blvd\, Culver City\, CA\, 90230\, United States
CATEGORIES:Rental
ATTACH;FMTTYPE=image/png:https://culvercitycommunitypost46.com/wp-content/uploads/2023/07/LACC-new-logo.png
END:VEVENT
BEGIN:VEVENT
DTSTART;TZID=America/Los_Angeles:20230727T190000
DTEND;TZID=America/Los_Angeles:20230728T000000
DTSTAMP:20260422T203649
CREATED:20230721T164913Z
LAST-MODIFIED:20230721T164914Z
UID:278163-1690484400-1690502400@culvercitycommunitypost46.com
SUMMARY:Karaoke Night
DESCRIPTION:Join us for Karaoke every Thursday night
URL:https://culvercitycommunitypost46.com/event/karaoke-night/
LOCATION:American Legion Post 46\, 5309 Sepulveda Blvd\, Culver City\, CA\, 90230\, United States
CATEGORIES:Karaoke
ATTACH;FMTTYPE=image/jpeg:https://culvercitycommunitypost46.com/wp-content/uploads/2023/07/Karaoke-Night.jpg
END:VEVENT
BEGIN:VEVENT
DTSTART;TZID=America/Los_Angeles:20230726T180000
DTEND;TZID=America/Los_Angeles:20230726T203000
DTSTAMP:20260422T203649
CREATED:20230725T194813Z
LAST-MODIFIED:20230725T194813Z
UID:278272-1690394400-1690403400@culvercitycommunitypost46.com
SUMMARY:40 & 8 Meeting
DESCRIPTION:Voiture 1450 (Red Coats) Monthly Meetings
URL:https://culvercitycommunitypost46.com/event/40-8-meeting/
LOCATION:American Legion Post 46\, 5309 Sepulveda Blvd\, Culver City\, CA\, 90230\, United States
CATEGORIES:Rental
ATTACH;FMTTYPE=image/jpeg:https://culvercitycommunitypost46.com/wp-content/uploads/2023/07/Forty_and_Eight_emblem.jpg
END:VEVENT
END:VCALENDAR