BEGIN:VCALENDAR
VERSION:2.0
PRODID:-//Culver City American Legion - ECPv6.14.2//NONSGML v1.0//EN
CALSCALE:GREGORIAN
METHOD:PUBLISH
X-WR-CALNAME:Culver City American Legion
X-ORIGINAL-URL:https://culvercitycommunitypost46.com
X-WR-CALDESC:Events for Culver City American Legion
REFRESH-INTERVAL;VALUE=DURATION:PT1H
X-Robots-Tag:noindex
X-PUBLISHED-TTL:PT1H
BEGIN:VTIMEZONE
TZID:America/Los_Angeles
BEGIN:DAYLIGHT
TZOFFSETFROM:-0800
TZOFFSETTO:-0700
TZNAME:PDT
DTSTART:20230312T100000
END:DAYLIGHT
BEGIN:STANDARD
TZOFFSETFROM:-0700
TZOFFSETTO:-0800
TZNAME:PST
DTSTART:20231105T090000
END:STANDARD
END:VTIMEZONE
BEGIN:VEVENT
DTSTART;TZID=America/Los_Angeles:20230919T180000
DTEND;TZID=America/Los_Angeles:20230919T200000
DTSTAMP:20260422T150845
CREATED:20230912T001029Z
LAST-MODIFIED:20230912T001029Z
UID:278512-1695146400-1695153600@culvercitycommunitypost46.com
SUMMARY:Post 290 Meeting
DESCRIPTION:Post 290 Meeting
URL:https://culvercitycommunitypost46.com/event/post-290-meeting/
LOCATION:American Legion Post 46\, 5309 Sepulveda Blvd\, Culver City\, CA\, 90230\, United States
CATEGORIES:Rental
ATTACH;FMTTYPE=image/webp:https://culvercitycommunitypost46.com/wp-content/uploads/2023/07/private-event.webp
END:VEVENT
BEGIN:VEVENT
DTSTART;TZID=America/Los_Angeles:20230921T160000
DTEND;TZID=America/Los_Angeles:20230921T200000
DTSTAMP:20260422T150845
CREATED:20230911T235446Z
LAST-MODIFIED:20230911T235446Z
UID:278507-1695312000-1695326400@culvercitycommunitypost46.com
SUMMARY:SONS Steak Night
DESCRIPTION:Join us for Steak Night…its what’s for dinner.  Pre-Order $16 or same day $20 on September 21\, 2023\, 4:00 p.m. to 8:00 p.m.  All proceeds benefit Sons of the American Legion programs.  Dinner includes baked potato\, veggies\, salad and dessert.
URL:https://culvercitycommunitypost46.com/event/sons-steak-night/
LOCATION:American Legion Post 46\, 5309 Sepulveda Blvd\, Culver City\, CA\, 90230\, United States
CATEGORIES:Fundraiser
ATTACH;FMTTYPE=image/png:https://culvercitycommunitypost46.com/wp-content/uploads/2023/09/Beef-Steak-Flyer-9-21-23.png
END:VEVENT
BEGIN:VEVENT
DTSTART;TZID=America/Los_Angeles:20230921T173000
DTEND;TZID=America/Los_Angeles:20230921T200000
DTSTAMP:20260422T150845
CREATED:20230724T231227Z
LAST-MODIFIED:20230724T231227Z
UID:278256-1695317400-1695326400@culvercitycommunitypost46.com
SUMMARY:Executive Board Meeting
DESCRIPTION:TAL Community Post 46 Executive Board meetings
URL:https://culvercitycommunitypost46.com/event/executive-board-meeting-2/
LOCATION:American Legion Post 46\, 5309 Sepulveda Blvd\, Culver City\, CA\, 90230\, United States
CATEGORIES:Ex Board Meeting
ATTACH;FMTTYPE=image/jpeg:https://culvercitycommunitypost46.com/wp-content/uploads/2022/06/Front-of-Building.jpg
END:VEVENT
BEGIN:VEVENT
DTSTART;TZID=America/Los_Angeles:20230921T190000
DTEND;TZID=America/Los_Angeles:20230921T230000
DTSTAMP:20260422T150845
CREATED:20230721T191131Z
LAST-MODIFIED:20230801T202158Z
UID:278192-1695322800-1695337200@culvercitycommunitypost46.com
SUMMARY:Karaoke Night
DESCRIPTION:Join us for Karaoke every Thursday night
URL:https://culvercitycommunitypost46.com/event/karaoke-night-9/
LOCATION:American Legion Post 46\, 5309 Sepulveda Blvd\, Culver City\, CA\, 90230\, United States
CATEGORIES:Karaoke
ATTACH;FMTTYPE=image/jpeg:https://culvercitycommunitypost46.com/wp-content/uploads/2023/07/Karaoke-Night.jpg
END:VEVENT
BEGIN:VEVENT
DTSTART;TZID=America/Los_Angeles:20230923T100000
DTEND;TZID=America/Los_Angeles:20230923T120000
DTSTAMP:20260422T150845
CREATED:20230823T223348Z
LAST-MODIFIED:20230823T223348Z
UID:278492-1695463200-1695470400@culvercitycommunitypost46.com
SUMMARY:Sons 5-Star Training
DESCRIPTION:Sons 5-Star Training open to all.  10:00 am to 12:00 pm.  Lunch will be offered at $10.
URL:https://culvercitycommunitypost46.com/event/sons-5-star-training/
LOCATION:American Legion Post 46\, 5309 Sepulveda Blvd\, Culver City\, CA\, 90230\, United States
CATEGORIES:Karaoke
ATTACH;FMTTYPE=image/png:https://culvercitycommunitypost46.com/wp-content/uploads/2023/08/Sons-Five-Star-Training-9-23-23.png
END:VEVENT
BEGIN:VEVENT
DTSTART;VALUE=DATE:20230924
DTEND;VALUE=DATE:20230925
DTSTAMP:20260422T150845
CREATED:20230912T001148Z
LAST-MODIFIED:20230912T001148Z
UID:278514-1695513600-1695599999@culvercitycommunitypost46.com
SUMMARY:Quinceanera Rental
DESCRIPTION:
URL:https://culvercitycommunitypost46.com/event/quinceanera-rental/
LOCATION:American Legion Post 46\, 5309 Sepulveda Blvd\, Culver City\, CA\, 90230\, United States
CATEGORIES:Rental
ATTACH;FMTTYPE=image/webp:https://culvercitycommunitypost46.com/wp-content/uploads/2023/07/private-event.webp
END:VEVENT
BEGIN:VEVENT
DTSTART;TZID=America/Los_Angeles:20230924T090000
DTEND;TZID=America/Los_Angeles:20230924T120000
DTSTAMP:20260422T150845
CREATED:20230721T162026Z
LAST-MODIFIED:20230721T162514Z
UID:278153-1695546000-1695556800@culvercitycommunitypost46.com
SUMMARY:Sunday Breakfast
DESCRIPTION:Join us for breakfast 2nd and 4th Sundays
URL:https://culvercitycommunitypost46.com/event/sunday-breakfast-5/
LOCATION:American Legion Post 46\, 5309 Sepulveda Blvd\, Culver City\, CA\, 90230\, United States
CATEGORIES:Breakfast
ATTACH;FMTTYPE=image/png:https://culvercitycommunitypost46.com/wp-content/uploads/2022/08/Sunday-Breakfast-2nd-4th.png
END:VEVENT
BEGIN:VEVENT
DTSTART;TZID=America/Los_Angeles:20230925T173000
DTEND;TZID=America/Los_Angeles:20230925T200000
DTSTAMP:20260422T150845
CREATED:20230721T200213Z
LAST-MODIFIED:20230721T200213Z
UID:278248-1695663000-1695672000@culvercitycommunitypost46.com
SUMMARY:District 24 Meeting
DESCRIPTION:District 24 – Organizational/Goals Meeting
URL:https://culvercitycommunitypost46.com/event/district-24-meeting/
LOCATION:American Legion Post 46\, 5309 Sepulveda Blvd\, Culver City\, CA\, 90230\, United States
CATEGORIES:Ex Board Meeting
ATTACH;FMTTYPE=image/jpeg:https://culvercitycommunitypost46.com/wp-content/uploads/2022/06/Front-of-Building.jpg
END:VEVENT
BEGIN:VEVENT
DTSTART;TZID=America/Los_Angeles:20230927T180000
DTEND;TZID=America/Los_Angeles:20230927T203000
DTSTAMP:20260422T150845
CREATED:20230725T195059Z
LAST-MODIFIED:20230725T195059Z
UID:278278-1695837600-1695846600@culvercitycommunitypost46.com
SUMMARY:40 & 8 Meeting
DESCRIPTION:Voiture 1450 (Red Coats) Monthly Meetings
URL:https://culvercitycommunitypost46.com/event/40-8-meeting-3/
LOCATION:American Legion Post 46\, 5309 Sepulveda Blvd\, Culver City\, CA\, 90230\, United States
CATEGORIES:Rental
ATTACH;FMTTYPE=image/jpeg:https://culvercitycommunitypost46.com/wp-content/uploads/2023/07/Forty_and_Eight_emblem.jpg
END:VEVENT
BEGIN:VEVENT
DTSTART;TZID=America/Los_Angeles:20230928T190000
DTEND;TZID=America/Los_Angeles:20230928T230000
DTSTAMP:20260422T150845
CREATED:20230721T191239Z
LAST-MODIFIED:20230801T202251Z
UID:278194-1695927600-1695942000@culvercitycommunitypost46.com
SUMMARY:Karaoke Night
DESCRIPTION:Join us for Karaoke every Thursday night
URL:https://culvercitycommunitypost46.com/event/karaoke-night-10/
LOCATION:American Legion Post 46\, 5309 Sepulveda Blvd\, Culver City\, CA\, 90230\, United States
CATEGORIES:Karaoke
ATTACH;FMTTYPE=image/jpeg:https://culvercitycommunitypost46.com/wp-content/uploads/2023/07/Karaoke-Night.jpg
END:VEVENT
BEGIN:VEVENT
DTSTART;TZID=America/Los_Angeles:20231003T173000
DTEND;TZID=America/Los_Angeles:20231003T200000
DTSTAMP:20260422T150845
CREATED:20230721T195636Z
LAST-MODIFIED:20230721T195636Z
UID:278242-1696354200-1696363200@culvercitycommunitypost46.com
SUMMARY:TAL Post 290 Meeting
DESCRIPTION:TAL Post 290 General Meeting
URL:https://culvercitycommunitypost46.com/event/tal-post-290-meeting/
LOCATION:American Legion Post 46\, 5309 Sepulveda Blvd\, Culver City\, CA\, 90230\, United States
CATEGORIES:General Membership Meeting
ATTACH;FMTTYPE=image/jpeg:https://culvercitycommunitypost46.com/wp-content/uploads/2022/06/Front-of-Building.jpg
END:VEVENT
BEGIN:VEVENT
DTSTART;TZID=America/Los_Angeles:20231005T173000
DTEND;TZID=America/Los_Angeles:20231005T203000
DTSTAMP:20260422T150845
CREATED:20230721T190835Z
LAST-MODIFIED:20230721T190835Z
UID:278184-1696527000-1696537800@culvercitycommunitypost46.com
SUMMARY:General Membership Meetings
DESCRIPTION:Community Post 46 and Community Unit 46 general membership meetings.  1st Thursday of each month
URL:https://culvercitycommunitypost46.com/event/general-membership-meetings-4/
CATEGORIES:General Membership Meeting
ATTACH;FMTTYPE=image/jpeg:https://culvercitycommunitypost46.com/wp-content/uploads/2023/07/General-Meeting.jpg
END:VEVENT
BEGIN:VEVENT
DTSTART;TZID=America/Los_Angeles:20231005T190000
DTEND;TZID=America/Los_Angeles:20231005T230000
DTSTAMP:20260422T150845
CREATED:20230721T191324Z
LAST-MODIFIED:20230801T202504Z
UID:278196-1696532400-1696546800@culvercitycommunitypost46.com
SUMMARY:Karaoke Night
DESCRIPTION:Join us for Karaoke every Thursday night
URL:https://culvercitycommunitypost46.com/event/karaoke-night-11/
LOCATION:American Legion Post 46\, 5309 Sepulveda Blvd\, Culver City\, CA\, 90230\, United States
CATEGORIES:Karaoke
ATTACH;FMTTYPE=image/jpeg:https://culvercitycommunitypost46.com/wp-content/uploads/2023/07/Karaoke-Night.jpg
END:VEVENT
BEGIN:VEVENT
DTSTART;TZID=America/Los_Angeles:20231006T170000
DTEND;TZID=America/Los_Angeles:20231006T190000
DTSTAMP:20260422T150845
CREATED:20230911T234524Z
LAST-MODIFIED:20230911T234541Z
UID:278502-1696611600-1696618800@culvercitycommunitypost46.com
SUMMARY:Fish Fry Fridays
DESCRIPTION:Join us for Fish Fry Friday\, every 1st Friday of the month prepared by Community Unit 46.  All proceeds go toward American Legion Auxiliary programs.  Dine in or To-go/Pre-order or same day.
URL:https://culvercitycommunitypost46.com/event/fish-fry/
LOCATION:American Legion Post 46\, 5309 Sepulveda Blvd\, Culver City\, CA\, 90230\, United States
CATEGORIES:Fundraiser
ATTACH;FMTTYPE=image/png:https://culvercitycommunitypost46.com/wp-content/uploads/2023/09/Fish-Fry-Friday-2023.png
END:VEVENT
BEGIN:VEVENT
DTSTART;TZID=America/Los_Angeles:20231007T100000
DTEND;TZID=America/Los_Angeles:20231007T220000
DTSTAMP:20260422T150845
CREATED:20230721T195103Z
LAST-MODIFIED:20230721T195103Z
UID:278240-1696672800-1696716000@culvercitycommunitypost46.com
SUMMARY:Baby Shower Rental
DESCRIPTION:
URL:https://culvercitycommunitypost46.com/event/baby-shower-rental/
LOCATION:American Legion Post 46\, 5309 Sepulveda Blvd\, Culver City\, CA\, 90230\, United States
CATEGORIES:Rental
ATTACH;FMTTYPE=image/webp:https://culvercitycommunitypost46.com/wp-content/uploads/2023/07/private-event.webp
END:VEVENT
BEGIN:VEVENT
DTSTART;TZID=America/Los_Angeles:20231008T090000
DTEND;TZID=America/Los_Angeles:20231008T120000
DTSTAMP:20260422T150845
CREATED:20230721T162221Z
LAST-MODIFIED:20230721T162222Z
UID:278155-1696755600-1696766400@culvercitycommunitypost46.com
SUMMARY:Sunday Breakfast
DESCRIPTION:Join us for breakfast 2nd and 4th Sundays
URL:https://culvercitycommunitypost46.com/event/sunday-breakfast-6/
LOCATION:American Legion Post 46\, 5309 Sepulveda Blvd\, Culver City\, CA\, 90230\, United States
ATTACH;FMTTYPE=image/png:https://culvercitycommunitypost46.com/wp-content/uploads/2022/08/Sunday-Breakfast-2nd-4th.png
END:VEVENT
BEGIN:VEVENT
DTSTART;TZID=America/Los_Angeles:20231011T170000
DTEND;TZID=America/Los_Angeles:20231011T220000
DTSTAMP:20260422T150845
CREATED:20230721T195858Z
LAST-MODIFIED:20230721T195858Z
UID:278246-1697043600-1697061600@culvercitycommunitypost46.com
SUMMARY:Bird Club
DESCRIPTION:
URL:https://culvercitycommunitypost46.com/event/bird-club-3/
LOCATION:American Legion Post 46\, 5309 Sepulveda Blvd\, Culver City\, CA\, 90230\, United States
CATEGORIES:Rental
ATTACH;FMTTYPE=image/webp:https://culvercitycommunitypost46.com/wp-content/uploads/2023/07/private-event.webp
END:VEVENT
BEGIN:VEVENT
DTSTART;TZID=America/Los_Angeles:20231012T190000
DTEND;TZID=America/Los_Angeles:20231012T230000
DTSTAMP:20260422T150845
CREATED:20230721T191351Z
LAST-MODIFIED:20230801T202407Z
UID:278198-1697137200-1697151600@culvercitycommunitypost46.com
SUMMARY:Karaoke Night
DESCRIPTION:Join us for Karaoke every Thursday night
URL:https://culvercitycommunitypost46.com/event/karaoke-night-12/
LOCATION:American Legion Post 46\, 5309 Sepulveda Blvd\, Culver City\, CA\, 90230\, United States
CATEGORIES:Karaoke
ATTACH;FMTTYPE=image/jpeg:https://culvercitycommunitypost46.com/wp-content/uploads/2023/07/Karaoke-Night.jpg
END:VEVENT
BEGIN:VEVENT
DTSTART;TZID=America/Los_Angeles:20231017T173000
DTEND;TZID=America/Los_Angeles:20231017T200000
DTSTAMP:20260422T150845
CREATED:20230721T195732Z
LAST-MODIFIED:20230721T195732Z
UID:278244-1697563800-1697572800@culvercitycommunitypost46.com
SUMMARY:TAL Post 290 Meeting
DESCRIPTION:TAL Post 290 General Meeting
URL:https://culvercitycommunitypost46.com/event/tal-post-290-meeting-2/
LOCATION:American Legion Post 46\, 5309 Sepulveda Blvd\, Culver City\, CA\, 90230\, United States
CATEGORIES:General Membership Meeting
ATTACH;FMTTYPE=image/jpeg:https://culvercitycommunitypost46.com/wp-content/uploads/2022/06/Front-of-Building.jpg
END:VEVENT
BEGIN:VEVENT
DTSTART;TZID=America/Los_Angeles:20231019T173000
DTEND;TZID=America/Los_Angeles:20231019T200000
DTSTAMP:20260422T150845
CREATED:20230724T231320Z
LAST-MODIFIED:20230724T231320Z
UID:278258-1697736600-1697745600@culvercitycommunitypost46.com
SUMMARY:Executive Board Meeting
DESCRIPTION:TAL Community Post 46 Executive Board meetings
URL:https://culvercitycommunitypost46.com/event/executive-board-meeting-3/
LOCATION:American Legion Post 46\, 5309 Sepulveda Blvd\, Culver City\, CA\, 90230\, United States
CATEGORIES:Ex Board Meeting
ATTACH;FMTTYPE=image/jpeg:https://culvercitycommunitypost46.com/wp-content/uploads/2022/06/Front-of-Building.jpg
END:VEVENT
BEGIN:VEVENT
DTSTART;TZID=America/Los_Angeles:20231019T190000
DTEND;TZID=America/Los_Angeles:20231019T230000
DTSTAMP:20260422T150845
CREATED:20230721T191422Z
LAST-MODIFIED:20230801T202602Z
UID:278200-1697742000-1697756400@culvercitycommunitypost46.com
SUMMARY:Karaoke Night
DESCRIPTION:Join us for Karaoke every Thursday night
URL:https://culvercitycommunitypost46.com/event/karaoke-night-13/
LOCATION:American Legion Post 46\, 5309 Sepulveda Blvd\, Culver City\, CA\, 90230\, United States
CATEGORIES:Karaoke
ATTACH;FMTTYPE=image/jpeg:https://culvercitycommunitypost46.com/wp-content/uploads/2023/07/Karaoke-Night.jpg
END:VEVENT
BEGIN:VEVENT
DTSTART;TZID=America/Los_Angeles:20231020T130000
DTEND;TZID=America/Los_Angeles:20231020T150000
DTSTAMP:20260422T150845
CREATED:20230726T204213Z
LAST-MODIFIED:20230726T204213Z
UID:278451-1697806800-1697814000@culvercitycommunitypost46.com
SUMMARY:West LA VA Bingo
DESCRIPTION:Volunteers welcome to host Bingo at West LA VA.  Contact Post for volunteer opportunities.
URL:https://culvercitycommunitypost46.com/event/west-la-va-bingo-4/
LOCATION:West LA VA\, 42-38 Bonsall Ave\, Los Angeles\, CA\, 90049
CATEGORIES:Post Event
ATTACH;FMTTYPE=image/jpeg:https://culvercitycommunitypost46.com/wp-content/uploads/2023/07/bingo.jpg
END:VEVENT
BEGIN:VEVENT
DTSTART;TZID=America/Los_Angeles:20231022T090000
DTEND;TZID=America/Los_Angeles:20231022T120000
DTSTAMP:20260422T150845
CREATED:20230721T162631Z
LAST-MODIFIED:20230721T162632Z
UID:278157-1697965200-1697976000@culvercitycommunitypost46.com
SUMMARY:Sunday Breakfast
DESCRIPTION:Join us for breakfast 2nd and 4th Sundays
URL:https://culvercitycommunitypost46.com/event/sunday-breakfast-7/
LOCATION:American Legion Post 46\, 5309 Sepulveda Blvd\, Culver City\, CA\, 90230\, United States
CATEGORIES:Breakfast
ATTACH;FMTTYPE=image/png:https://culvercitycommunitypost46.com/wp-content/uploads/2022/08/Sunday-Breakfast-2nd-4th.png
END:VEVENT
BEGIN:VEVENT
DTSTART;TZID=America/Los_Angeles:20231023T173000
DTEND;TZID=America/Los_Angeles:20231023T200000
DTSTAMP:20260422T150845
CREATED:20230721T200333Z
LAST-MODIFIED:20230721T200333Z
UID:278250-1698082200-1698091200@culvercitycommunitypost46.com
SUMMARY:District 24 Meeting
DESCRIPTION:District 24 – Social Media Action Plan Meeting
URL:https://culvercitycommunitypost46.com/event/district-24-meeting-2/
LOCATION:American Legion Post 46\, 5309 Sepulveda Blvd\, Culver City\, CA\, 90230\, United States
CATEGORIES:Ex Board Meeting
ATTACH;FMTTYPE=image/jpeg:https://culvercitycommunitypost46.com/wp-content/uploads/2022/06/Front-of-Building.jpg
END:VEVENT
BEGIN:VEVENT
DTSTART;TZID=America/Los_Angeles:20231025T073000
DTEND;TZID=America/Los_Angeles:20231025T170000
DTSTAMP:20260422T150845
CREATED:20230911T233514Z
LAST-MODIFIED:20230911T233514Z
UID:278500-1698219000-1698253200@culvercitycommunitypost46.com
SUMMARY:Lifeline Rental
DESCRIPTION:
URL:https://culvercitycommunitypost46.com/event/lifeline-rental/
LOCATION:American Legion Post 46\, 5309 Sepulveda Blvd\, Culver City\, CA\, 90230\, United States
CATEGORIES:Rental
ATTACH;FMTTYPE=image/webp:https://culvercitycommunitypost46.com/wp-content/uploads/2023/07/private-event.webp
END:VEVENT
BEGIN:VEVENT
DTSTART;TZID=America/Los_Angeles:20231025T180000
DTEND;TZID=America/Los_Angeles:20231025T203000
DTSTAMP:20260422T150845
CREATED:20230725T195149Z
LAST-MODIFIED:20230725T195149Z
UID:278280-1698256800-1698265800@culvercitycommunitypost46.com
SUMMARY:40 & 8 Meeting
DESCRIPTION:Voiture 1450 (Red Coats) Monthly Meetings
URL:https://culvercitycommunitypost46.com/event/40-8-meeting-4/
LOCATION:American Legion Post 46\, 5309 Sepulveda Blvd\, Culver City\, CA\, 90230\, United States
CATEGORIES:Rental
ATTACH;FMTTYPE=image/jpeg:https://culvercitycommunitypost46.com/wp-content/uploads/2023/07/Forty_and_Eight_emblem.jpg
END:VEVENT
BEGIN:VEVENT
DTSTART;TZID=America/Los_Angeles:20231026T190000
DTEND;TZID=America/Los_Angeles:20231026T230000
DTSTAMP:20260422T150845
CREATED:20230721T191449Z
LAST-MODIFIED:20230801T202703Z
UID:278202-1698346800-1698361200@culvercitycommunitypost46.com
SUMMARY:Karaoke Night
DESCRIPTION:Join us for Karaoke every Thursday night
URL:https://culvercitycommunitypost46.com/event/karaoke-night-14/
LOCATION:American Legion Post 46\, 5309 Sepulveda Blvd\, Culver City\, CA\, 90230\, United States
CATEGORIES:Karaoke
ATTACH;FMTTYPE=image/jpeg:https://culvercitycommunitypost46.com/wp-content/uploads/2023/07/Karaoke-Night.jpg
END:VEVENT
BEGIN:VEVENT
DTSTART;VALUE=DATE:20231028
DTEND;VALUE=DATE:20231029
DTSTAMP:20260422T150845
CREATED:20230912T001421Z
LAST-MODIFIED:20230912T001421Z
UID:278518-1698451200-1698537599@culvercitycommunitypost46.com
SUMMARY:60th Birthday Rental
DESCRIPTION:
URL:https://culvercitycommunitypost46.com/event/60th-birthday-rental/
LOCATION:American Legion Post 46\, 5309 Sepulveda Blvd\, Culver City\, CA\, 90230\, United States
CATEGORIES:Rental
ATTACH;FMTTYPE=image/webp:https://culvercitycommunitypost46.com/wp-content/uploads/2023/07/private-event.webp
END:VEVENT
BEGIN:VEVENT
DTSTART;TZID=America/Los_Angeles:20231031T170000
DTEND;TZID=America/Los_Angeles:20231031T220000
DTSTAMP:20260422T150845
CREATED:20230724T233012Z
LAST-MODIFIED:20231115T184833Z
UID:278267-1698771600-1698789600@culvercitycommunitypost46.com
SUMMARY:Trunk-Or-Treat
DESCRIPTION:Join us for Treat and Tricks
URL:https://culvercitycommunitypost46.com/event/karaoke-night-24/
LOCATION:American Legion Post 46\, 5309 Sepulveda Blvd\, Culver City\, CA\, 90230\, United States
CATEGORIES:Karaoke
ATTACH;FMTTYPE=image/webp:https://culvercitycommunitypost46.com/wp-content/uploads/2023/07/trunk-or-treat.webp
END:VEVENT
BEGIN:VEVENT
DTSTART;TZID=America/Los_Angeles:20231102T173000
DTEND;TZID=America/Los_Angeles:20231102T203000
DTSTAMP:20260422T150845
CREATED:20230721T170433Z
LAST-MODIFIED:20230721T190611Z
UID:278181-1698946200-1698957000@culvercitycommunitypost46.com
SUMMARY:General Membership Meetings
DESCRIPTION:Community Post 46 and Community Unit 46 general membership meetings.  1st Thursday of each month
URL:https://culvercitycommunitypost46.com/event/general-membership-meetings-3/
CATEGORIES:General Membership Meeting
ATTACH;FMTTYPE=image/jpeg:https://culvercitycommunitypost46.com/wp-content/uploads/2023/07/General-Meeting.jpg
END:VEVENT
END:VCALENDAR