BEGIN:VCALENDAR
VERSION:2.0
PRODID:-//Culver City American Legion - ECPv6.14.2//NONSGML v1.0//EN
CALSCALE:GREGORIAN
METHOD:PUBLISH
X-WR-CALNAME:Culver City American Legion
X-ORIGINAL-URL:https://culvercitycommunitypost46.com
X-WR-CALDESC:Events for Culver City American Legion
REFRESH-INTERVAL;VALUE=DURATION:PT1H
X-Robots-Tag:noindex
X-PUBLISHED-TTL:PT1H
BEGIN:VTIMEZONE
TZID:America/Los_Angeles
BEGIN:DAYLIGHT
TZOFFSETFROM:-0800
TZOFFSETTO:-0700
TZNAME:PDT
DTSTART:20250309T100000
END:DAYLIGHT
BEGIN:STANDARD
TZOFFSETFROM:-0700
TZOFFSETTO:-0800
TZNAME:PST
DTSTART:20251102T090000
END:STANDARD
BEGIN:DAYLIGHT
TZOFFSETFROM:-0800
TZOFFSETTO:-0700
TZNAME:PDT
DTSTART:20260308T100000
END:DAYLIGHT
BEGIN:STANDARD
TZOFFSETFROM:-0700
TZOFFSETTO:-0800
TZNAME:PST
DTSTART:20261101T090000
END:STANDARD
END:VTIMEZONE
BEGIN:VEVENT
DTSTART;TZID=America/Los_Angeles:20250531T100000
DTEND;TZID=America/Los_Angeles:20250531T120000
DTSTAMP:20260422T205707
CREATED:20250405T035701Z
LAST-MODIFIED:20250405T035701Z
UID:279175-1748685600-1748692800@culvercitycommunitypost46.com
SUMMARY:District 24 - American Legion Auxiliary Meeting
DESCRIPTION:District 24 – May Meeting – Caucus
URL:https://culvercitycommunitypost46.com/event/district-24-american-legion-auxiliary-meeting/
CATEGORIES:General Membership Meeting
ATTACH;FMTTYPE=image/jpeg:https://culvercitycommunitypost46.com/wp-content/uploads/2023/07/General-Meeting.jpg
END:VEVENT
BEGIN:VEVENT
DTSTART;TZID=America/Los_Angeles:20250605T173000
DTEND;TZID=America/Los_Angeles:20250605T203000
DTSTAMP:20260422T205707
CREATED:20240719T164059Z
LAST-MODIFIED:20240924T033511Z
UID:278756-1749144600-1749155400@culvercitycommunitypost46.com
SUMMARY:General Membership Meetings
DESCRIPTION:Community Post 46 and Community Unit 46 general membership meetings.  1st Thursday of each month \n5:30 Social \n6:30 Auxiliary Meeting \n7:00 Legion Meeting
URL:https://culvercitycommunitypost46.com/event/general-membership-meetings-23/
CATEGORIES:General Membership Meeting
ATTACH;FMTTYPE=image/jpeg:https://culvercitycommunitypost46.com/wp-content/uploads/2023/07/General-Meeting.jpg
END:VEVENT
BEGIN:VEVENT
DTSTART;TZID=America/Los_Angeles:20250630T173000
DTEND;TZID=America/Los_Angeles:20250630T210000
DTSTAMP:20260422T205707
CREATED:20250405T040502Z
LAST-MODIFIED:20250405T040502Z
UID:279182-1751304600-1751317200@culvercitycommunitypost46.com
SUMMARY:District 24 Meeting
DESCRIPTION:Join us for the D24 Monthly Meeting \nSocial Hour 5:30 to 7 pm \nMeeting 7:00 pm
URL:https://culvercitycommunitypost46.com/event/district-24-meeting-12/
CATEGORIES:General Membership Meeting
ATTACH;FMTTYPE=image/jpeg:https://culvercitycommunitypost46.com/wp-content/uploads/2023/07/General-Meeting.jpg
END:VEVENT
BEGIN:VEVENT
DTSTART;TZID=America/Los_Angeles:20250703T173000
DTEND;TZID=America/Los_Angeles:20250703T203000
DTSTAMP:20260422T205707
CREATED:20240719T164143Z
LAST-MODIFIED:20240719T164143Z
UID:278758-1751563800-1751574600@culvercitycommunitypost46.com
SUMMARY:General Membership Meetings
DESCRIPTION:Community Post 46 and Community Unit 46 general membership meetings.  1st Thursday of each month \nCommunity Unit 46 – Dark in July – No Meeting
URL:https://culvercitycommunitypost46.com/event/general-membership-meetings-24/
CATEGORIES:General Membership Meeting
ATTACH;FMTTYPE=image/jpeg:https://culvercitycommunitypost46.com/wp-content/uploads/2023/07/General-Meeting.jpg
END:VEVENT
BEGIN:VEVENT
DTSTART;VALUE=DATE:20250712
DTEND;VALUE=DATE:20250713
DTSTAMP:20260422T205707
CREATED:20250405T040746Z
LAST-MODIFIED:20250405T040746Z
UID:279186-1752278400-1752364799@culvercitycommunitypost46.com
SUMMARY:Post 290 General Membership Meeting
DESCRIPTION:Community Post 46 and Community Unit 46 general membership meetings.  1st Thursday of each month \nCommunity Unit 46 – Dark in July – No Meeting
URL:https://culvercitycommunitypost46.com/event/post-290-general-membership-meeting/
CATEGORIES:General Membership Meeting
ATTACH;FMTTYPE=image/jpeg:https://culvercitycommunitypost46.com/wp-content/uploads/2023/07/General-Meeting.jpg
END:VEVENT
BEGIN:VEVENT
DTSTART;TZID=America/Los_Angeles:20250726T160000
DTEND;TZID=America/Los_Angeles:20250726T180000
DTSTAMP:20260422T205707
CREATED:20250705T232132Z
LAST-MODIFIED:20250705T232132Z
UID:279212-1753545600-1753552800@culvercitycommunitypost46.com
SUMMARY:Post 290 Meeting
DESCRIPTION:4:00 pm Post Meeting
URL:https://culvercitycommunitypost46.com/event/post-290-meeting-2/
CATEGORIES:General Membership Meeting
ATTACH;FMTTYPE=image/jpeg:https://culvercitycommunitypost46.com/wp-content/uploads/2023/07/General-Meeting.jpg
END:VEVENT
BEGIN:VEVENT
DTSTART;TZID=America/Los_Angeles:20250728T173000
DTEND;TZID=America/Los_Angeles:20250728T210000
DTSTAMP:20260422T205707
CREATED:20250405T040623Z
LAST-MODIFIED:20250405T040623Z
UID:279184-1753723800-1753736400@culvercitycommunitypost46.com
SUMMARY:District 24 Meeting
DESCRIPTION:Join us for the D24 Monthly Meeting \nSocial Hour 5:30 to 7 pm \nMeeting 7:00 pm
URL:https://culvercitycommunitypost46.com/event/district-24-meeting-13/
CATEGORIES:General Membership Meeting
ATTACH;FMTTYPE=image/jpeg:https://culvercitycommunitypost46.com/wp-content/uploads/2023/07/General-Meeting.jpg
END:VEVENT
BEGIN:VEVENT
DTSTART;TZID=America/Los_Angeles:20250802T100000
DTEND;TZID=America/Los_Angeles:20250802T120000
DTSTAMP:20260422T205707
CREATED:20250705T232726Z
LAST-MODIFIED:20250705T232726Z
UID:279214-1754128800-1754136000@culvercitycommunitypost46.com
SUMMARY:ALA District 24 Meeting
DESCRIPTION:
URL:https://culvercitycommunitypost46.com/event/ala-district-24-meeting/
CATEGORIES:General Membership Meeting
ATTACH;FMTTYPE=image/jpeg:https://culvercitycommunitypost46.com/wp-content/uploads/2025/07/D24-Meeting-Kathie-and-Marie.jpg
END:VEVENT
BEGIN:VEVENT
DTSTART;TZID=America/Los_Angeles:20250807T173000
DTEND;TZID=America/Los_Angeles:20250807T203000
DTSTAMP:20260422T205707
CREATED:20250801T201226Z
LAST-MODIFIED:20250801T201226Z
UID:279299-1754587800-1754598600@culvercitycommunitypost46.com
SUMMARY:General Membership Meetings
DESCRIPTION:Community Post 46 and Community Unit 46 general membership meetings.  1st Thursday of each month \n5:30 Social \n6:30 Auxiliary Meeting \n7:00 Legion Meeting
URL:https://culvercitycommunitypost46.com/event/general-membership-meetings-25/
CATEGORIES:General Membership Meeting
ATTACH;FMTTYPE=image/jpeg:https://culvercitycommunitypost46.com/wp-content/uploads/2023/07/General-Meeting.jpg
END:VEVENT
BEGIN:VEVENT
DTSTART;TZID=America/Los_Angeles:20250904T173000
DTEND;TZID=America/Los_Angeles:20250904T203000
DTSTAMP:20260422T205707
CREATED:20250801T201915Z
LAST-MODIFIED:20250801T201915Z
UID:279305-1757007000-1757017800@culvercitycommunitypost46.com
SUMMARY:General Membership Meetings
DESCRIPTION:Community Post 46 and Community Unit 46 general membership meetings.  1st Thursday of each month \n5:30 Social \n6:30 Auxiliary Meeting \n7:00 Legion Meeting
URL:https://culvercitycommunitypost46.com/event/general-membership-meetings-26/
CATEGORIES:General Membership Meeting
ATTACH;FMTTYPE=image/jpeg:https://culvercitycommunitypost46.com/wp-content/uploads/2023/07/General-Meeting.jpg
END:VEVENT
BEGIN:VEVENT
DTSTART;TZID=America/Los_Angeles:20251002T173000
DTEND;TZID=America/Los_Angeles:20251002T203000
DTSTAMP:20260422T205707
CREATED:20250801T201948Z
LAST-MODIFIED:20250801T201948Z
UID:279307-1759426200-1759437000@culvercitycommunitypost46.com
SUMMARY:General Membership Meetings
DESCRIPTION:Community Post 46 and Community Unit 46 general membership meetings.  1st Thursday of each month \n5:30 Social \n6:30 Auxiliary Meeting \n7:00 Legion Meeting
URL:https://culvercitycommunitypost46.com/event/general-membership-meetings-27/
CATEGORIES:General Membership Meeting
ATTACH;FMTTYPE=image/jpeg:https://culvercitycommunitypost46.com/wp-content/uploads/2023/07/General-Meeting.jpg
END:VEVENT
BEGIN:VEVENT
DTSTART;TZID=America/Los_Angeles:20251106T173000
DTEND;TZID=America/Los_Angeles:20251106T203000
DTSTAMP:20260422T205707
CREATED:20250801T202023Z
LAST-MODIFIED:20250801T202023Z
UID:279309-1762450200-1762461000@culvercitycommunitypost46.com
SUMMARY:General Membership Meetings
DESCRIPTION:Community Post 46 and Community Unit 46 general membership meetings.  1st Thursday of each month \n5:30 Social \n6:30 Auxiliary Meeting \n7:00 Legion Meeting
URL:https://culvercitycommunitypost46.com/event/general-membership-meetings-28/
CATEGORIES:General Membership Meeting
ATTACH;FMTTYPE=image/jpeg:https://culvercitycommunitypost46.com/wp-content/uploads/2023/07/General-Meeting.jpg
END:VEVENT
BEGIN:VEVENT
DTSTART;TZID=America/Los_Angeles:20251204T173000
DTEND;TZID=America/Los_Angeles:20251204T203000
DTSTAMP:20260422T205707
CREATED:20250801T203142Z
LAST-MODIFIED:20250801T203142Z
UID:279321-1764869400-1764880200@culvercitycommunitypost46.com
SUMMARY:General Membership Meetings
DESCRIPTION:Community Post 46 and Community Unit 46 general membership meetings.  1st Thursday of each month \n5:30 Social \n6:30 Auxiliary Meeting \n7:00 Legion Meeting
URL:https://culvercitycommunitypost46.com/event/general-membership-meetings-29/
CATEGORIES:General Membership Meeting
ATTACH;FMTTYPE=image/jpeg:https://culvercitycommunitypost46.com/wp-content/uploads/2023/07/General-Meeting.jpg
END:VEVENT
BEGIN:VEVENT
DTSTART;TZID=America/Los_Angeles:20260205T173000
DTEND;TZID=America/Los_Angeles:20260205T203000
DTSTAMP:20260422T205707
CREATED:20250801T203220Z
LAST-MODIFIED:20250801T203220Z
UID:279323-1770312600-1770323400@culvercitycommunitypost46.com
SUMMARY:General Membership Meetings
DESCRIPTION:Community Post 46 and Community Unit 46 general membership meetings.  1st Thursday of each month \n5:30 Social \n6:30 Auxiliary Meeting \n7:00 Legion Meeting
URL:https://culvercitycommunitypost46.com/event/general-membership-meetings-30/
CATEGORIES:General Membership Meeting
ATTACH;FMTTYPE=image/jpeg:https://culvercitycommunitypost46.com/wp-content/uploads/2023/07/General-Meeting.jpg
END:VEVENT
BEGIN:VEVENT
DTSTART;TZID=America/Los_Angeles:20260305T173000
DTEND;TZID=America/Los_Angeles:20260305T203000
DTSTAMP:20260422T205707
CREATED:20250801T203237Z
LAST-MODIFIED:20250801T203237Z
UID:279325-1772731800-1772742600@culvercitycommunitypost46.com
SUMMARY:General Membership Meetings
DESCRIPTION:Community Post 46 and Community Unit 46 general membership meetings.  1st Thursday of each month \n5:30 Social \n6:30 Auxiliary Meeting \n7:00 Legion Meeting
URL:https://culvercitycommunitypost46.com/event/general-membership-meetings-31/
CATEGORIES:General Membership Meeting
ATTACH;FMTTYPE=image/jpeg:https://culvercitycommunitypost46.com/wp-content/uploads/2023/07/General-Meeting.jpg
END:VEVENT
BEGIN:VEVENT
DTSTART;TZID=America/Los_Angeles:20260402T173000
DTEND;TZID=America/Los_Angeles:20260402T203000
DTSTAMP:20260422T205707
CREATED:20250801T203305Z
LAST-MODIFIED:20250801T203305Z
UID:279327-1775151000-1775161800@culvercitycommunitypost46.com
SUMMARY:General Membership Meetings
DESCRIPTION:Community Post 46 and Community Unit 46 general membership meetings.  1st Thursday of each month \n5:30 Social \n6:30 Auxiliary Meeting \n7:00 Legion Meeting
URL:https://culvercitycommunitypost46.com/event/general-membership-meetings-32/
CATEGORIES:General Membership Meeting
ATTACH;FMTTYPE=image/jpeg:https://culvercitycommunitypost46.com/wp-content/uploads/2023/07/General-Meeting.jpg
END:VEVENT
BEGIN:VEVENT
DTSTART;TZID=America/Los_Angeles:20260411T173000
DTEND;TZID=America/Los_Angeles:20260411T203000
DTSTAMP:20260422T205707
CREATED:20251025T013515Z
LAST-MODIFIED:20251025T013515Z
UID:279412-1775928600-1775939400@culvercitycommunitypost46.com
SUMMARY:ALA D24 Department President Visit Meeting
DESCRIPTION:
URL:https://culvercitycommunitypost46.com/event/ala-d24-department-president-visit-meeting/
CATEGORIES:General Membership Meeting
ATTACH;FMTTYPE=image/jpeg:https://culvercitycommunitypost46.com/wp-content/uploads/2023/07/General-Meeting.jpg
END:VEVENT
BEGIN:VEVENT
DTSTART;TZID=America/Los_Angeles:20260507T173000
DTEND;TZID=America/Los_Angeles:20260507T203000
DTSTAMP:20260422T205707
CREATED:20250801T203323Z
LAST-MODIFIED:20250801T203323Z
UID:279329-1778175000-1778185800@culvercitycommunitypost46.com
SUMMARY:General Membership Meetings
DESCRIPTION:Community Post 46 and Community Unit 46 general membership meetings.  1st Thursday of each month \n5:30 Social \n6:30 Auxiliary Meeting \n7:00 Legion Meeting
URL:https://culvercitycommunitypost46.com/event/general-membership-meetings-33/
CATEGORIES:General Membership Meeting
ATTACH;FMTTYPE=image/jpeg:https://culvercitycommunitypost46.com/wp-content/uploads/2023/07/General-Meeting.jpg
END:VEVENT
BEGIN:VEVENT
DTSTART;TZID=America/Los_Angeles:20260604T173000
DTEND;TZID=America/Los_Angeles:20260604T203000
DTSTAMP:20260422T205707
CREATED:20250801T203342Z
LAST-MODIFIED:20250801T203342Z
UID:279331-1780594200-1780605000@culvercitycommunitypost46.com
SUMMARY:General Membership Meetings
DESCRIPTION:Community Post 46 and Community Unit 46 general membership meetings.  1st Thursday of each month \n5:30 Social \n6:30 Auxiliary Meeting \n7:00 Legion Meeting
URL:https://culvercitycommunitypost46.com/event/general-membership-meetings-34/
CATEGORIES:General Membership Meeting
ATTACH;FMTTYPE=image/jpeg:https://culvercitycommunitypost46.com/wp-content/uploads/2023/07/General-Meeting.jpg
END:VEVENT
END:VCALENDAR