BEGIN:VCALENDAR
VERSION:2.0
PRODID:-//Culver City American Legion - ECPv6.14.2//NONSGML v1.0//EN
CALSCALE:GREGORIAN
METHOD:PUBLISH
X-ORIGINAL-URL:https://culvercitycommunitypost46.com
X-WR-CALDESC:Events for Culver City American Legion
REFRESH-INTERVAL;VALUE=DURATION:PT1H
X-Robots-Tag:noindex
X-PUBLISHED-TTL:PT1H
BEGIN:VTIMEZONE
TZID:America/Los_Angeles
BEGIN:DAYLIGHT
TZOFFSETFROM:-0800
TZOFFSETTO:-0700
TZNAME:PDT
DTSTART:20250309T100000
END:DAYLIGHT
BEGIN:STANDARD
TZOFFSETFROM:-0700
TZOFFSETTO:-0800
TZNAME:PST
DTSTART:20251102T090000
END:STANDARD
END:VTIMEZONE
BEGIN:VEVENT
DTSTART;VALUE=DATE:20250415
DTEND;VALUE=DATE:20250501
DTSTAMP:20260423T162143
CREATED:20250404T233240Z
LAST-MODIFIED:20250404T233240Z
UID:279149-1744675200-1746057599@culvercitycommunitypost46.com
SUMMARY:Post Closed - Roofing Project
DESCRIPTION:Post Closed April 15 to April 30\, 2025 – New Roof Project
URL:https://culvercitycommunitypost46.com/event/post-closed-roofing-project/
LOCATION:American Legion Post 46\, 5309 Sepulveda Blvd\, Culver City\, CA\, 90230\, United States
CATEGORIES:Post Event
ATTACH;FMTTYPE=image/png:https://culvercitycommunitypost46.com/wp-content/uploads/2025/04/closed-sign-in-neon.png
END:VEVENT
BEGIN:VEVENT
DTSTART;TZID=America/Los_Angeles:20250417T173000
DTEND;TZID=America/Los_Angeles:20250417T200000
DTSTAMP:20260423T162143
CREATED:20240719T163143Z
LAST-MODIFIED:20240719T163143Z
UID:278738-1744911000-1744920000@culvercitycommunitypost46.com
SUMMARY:Executive Board Meeting
DESCRIPTION:TAL Community Post 46 Executive Board meetings
URL:https://culvercitycommunitypost46.com/event/executive-board-meeting-16/
LOCATION:American Legion Post 46\, 5309 Sepulveda Blvd\, Culver City\, CA\, 90230\, United States
CATEGORIES:Ex Board Meeting
ATTACH;FMTTYPE=image/jpeg:https://culvercitycommunitypost46.com/wp-content/uploads/2022/06/Front-of-Building.jpg
END:VEVENT
BEGIN:VEVENT
DTSTART;TZID=America/Los_Angeles:20250417T190000
DTEND;TZID=America/Los_Angeles:20250417T230000
DTSTAMP:20260423T162143
CREATED:20240719T164904Z
LAST-MODIFIED:20240719T164904Z
UID:278790-1744916400-1744930800@culvercitycommunitypost46.com
SUMMARY:Karaoke Night
DESCRIPTION:Join us for Karaoke every Thursday night
URL:https://culvercitycommunitypost46.com/event/karaoke-night-79/
LOCATION:American Legion Post 46\, 5309 Sepulveda Blvd\, Culver City\, CA\, 90230\, United States
CATEGORIES:Karaoke
ATTACH;FMTTYPE=image/jpeg:https://culvercitycommunitypost46.com/wp-content/uploads/2023/07/Karaoke-Night.jpg
END:VEVENT
END:VCALENDAR