BEGIN:VCALENDAR
VERSION:2.0
PRODID:-//Culver City American Legion - ECPv6.14.2//NONSGML v1.0//EN
CALSCALE:GREGORIAN
METHOD:PUBLISH
X-ORIGINAL-URL:https://culvercitycommunitypost46.com
X-WR-CALDESC:Events for Culver City American Legion
REFRESH-INTERVAL;VALUE=DURATION:PT1H
X-Robots-Tag:noindex
X-PUBLISHED-TTL:PT1H
BEGIN:VTIMEZONE
TZID:America/Los_Angeles
BEGIN:DAYLIGHT
TZOFFSETFROM:-0800
TZOFFSETTO:-0700
TZNAME:PDT
DTSTART:20240310T100000
END:DAYLIGHT
BEGIN:STANDARD
TZOFFSETFROM:-0700
TZOFFSETTO:-0800
TZNAME:PST
DTSTART:20241103T090000
END:STANDARD
END:VTIMEZONE
BEGIN:VEVENT
DTSTART;TZID=America/Los_Angeles:20241101T160000
DTEND;TZID=America/Los_Angeles:20241207T230000
DTSTAMP:20260424T144235
CREATED:20240718T035110Z
LAST-MODIFIED:20240718T035110Z
UID:278706-1730476800-1733612400@culvercitycommunitypost46.com
SUMMARY:Annual Toy Drive
DESCRIPTION:
URL:https://culvercitycommunitypost46.com/event/annual-toy-drive/
LOCATION:American Legion Post 46\, 5309 Sepulveda Blvd\, Culver City\, CA\, 90230\, United States
CATEGORIES:Rental
END:VEVENT
BEGIN:VEVENT
DTSTART;TZID=America/Los_Angeles:20241128T173000
DTEND;TZID=America/Los_Angeles:20241128T200000
DTSTAMP:20260424T144235
CREATED:20241117T232329Z
LAST-MODIFIED:20241117T232329Z
UID:279043-1732815000-1732824000@culvercitycommunitypost46.com
SUMMARY:VetsGiving Post 46
DESCRIPTION:
URL:https://culvercitycommunitypost46.com/event/vetsgiving-post-46/
CATEGORIES:General Membership Meeting
ATTACH;FMTTYPE=image/jpeg:https://culvercitycommunitypost46.com/wp-content/uploads/2023/07/General-Meeting.jpg
END:VEVENT
BEGIN:VEVENT
DTSTART;TZID=America/Los_Angeles:20241128T190000
DTEND;TZID=America/Los_Angeles:20241128T230000
DTSTAMP:20260424T144235
CREATED:20240719T165905Z
LAST-MODIFIED:20240719T165905Z
UID:278830-1732820400-1732834800@culvercitycommunitypost46.com
SUMMARY:Karaoke Night
DESCRIPTION:Join us for Karaoke every Thursday night
URL:https://culvercitycommunitypost46.com/event/karaoke-night-99/
LOCATION:American Legion Post 46\, 5309 Sepulveda Blvd\, Culver City\, CA\, 90230\, United States
CATEGORIES:Karaoke
ATTACH;FMTTYPE=image/jpeg:https://culvercitycommunitypost46.com/wp-content/uploads/2023/07/Karaoke-Night.jpg
END:VEVENT
END:VCALENDAR