BEGIN:VCALENDAR
VERSION:2.0
PRODID:-//Culver City American Legion - ECPv6.14.2//NONSGML v1.0//EN
CALSCALE:GREGORIAN
METHOD:PUBLISH
X-ORIGINAL-URL:https://culvercitycommunitypost46.com
X-WR-CALDESC:Events for Culver City American Legion
REFRESH-INTERVAL;VALUE=DURATION:PT1H
X-Robots-Tag:noindex
X-PUBLISHED-TTL:PT1H
BEGIN:VTIMEZONE
TZID:America/Los_Angeles
BEGIN:DAYLIGHT
TZOFFSETFROM:-0800
TZOFFSETTO:-0700
TZNAME:PDT
DTSTART:20230312T100000
END:DAYLIGHT
BEGIN:STANDARD
TZOFFSETFROM:-0700
TZOFFSETTO:-0800
TZNAME:PST
DTSTART:20231105T090000
END:STANDARD
END:VTIMEZONE
BEGIN:VEVENT
DTSTART;TZID=America/Los_Angeles:20231117T100000
DTEND;TZID=America/Los_Angeles:20231117T120000
DTSTAMP:20260422T091737
CREATED:20231115T185317Z
LAST-MODIFIED:20231115T185449Z
UID:278539-1700215200-1700222400@culvercitycommunitypost46.com
SUMMARY:Thanksgiving Service - WLA VA
DESCRIPTION:Join us in serving veterans at the West Los Angeles VA campus at 11:00 a.m.  Volunteers needed. \nFor more information contact: adjutantcc@gmail.com or call (310) 391-3087
URL:https://culvercitycommunitypost46.com/event/thanksgiving-service-wla-va/
LOCATION:American Legion Post 46\, 5309 Sepulveda Blvd\, Culver City\, CA\, 90230\, United States
CATEGORIES:Karaoke
ATTACH;FMTTYPE=image/png:https://culvercitycommunitypost46.com/wp-content/uploads/2023/11/Thankgiving-at-WLA-VA-11-17-23.png
END:VEVENT
END:VCALENDAR