BEGIN:VCALENDAR
VERSION:2.0
PRODID:-//Culver City American Legion - ECPv6.14.2//NONSGML v1.0//EN
CALSCALE:GREGORIAN
METHOD:PUBLISH
X-ORIGINAL-URL:https://culvercitycommunitypost46.com
X-WR-CALDESC:Events for Culver City American Legion
REFRESH-INTERVAL;VALUE=DURATION:PT1H
X-Robots-Tag:noindex
X-PUBLISHED-TTL:PT1H
BEGIN:VTIMEZONE
TZID:America/Los_Angeles
BEGIN:DAYLIGHT
TZOFFSETFROM:-0800
TZOFFSETTO:-0700
TZNAME:PDT
DTSTART:20230312T100000
END:DAYLIGHT
BEGIN:STANDARD
TZOFFSETFROM:-0700
TZOFFSETTO:-0800
TZNAME:PST
DTSTART:20231105T090000
END:STANDARD
END:VTIMEZONE
BEGIN:VEVENT
DTSTART;TZID=America/Los_Angeles:20230923T100000
DTEND;TZID=America/Los_Angeles:20230923T120000
DTSTAMP:20260422T185501
CREATED:20230823T223348Z
LAST-MODIFIED:20230823T223348Z
UID:278492-1695463200-1695470400@culvercitycommunitypost46.com
SUMMARY:Sons 5-Star Training
DESCRIPTION:Sons 5-Star Training open to all.  10:00 am to 12:00 pm.  Lunch will be offered at $10.
URL:https://culvercitycommunitypost46.com/event/sons-5-star-training/
LOCATION:American Legion Post 46\, 5309 Sepulveda Blvd\, Culver City\, CA\, 90230\, United States
CATEGORIES:Karaoke
ATTACH;FMTTYPE=image/png:https://culvercitycommunitypost46.com/wp-content/uploads/2023/08/Sons-Five-Star-Training-9-23-23.png
END:VEVENT
END:VCALENDAR